BEGIN:VCALENDAR
PRODID:-//Microsoft Corporation//Outlook 11.0 MIMEDIR//EN
VERSION:2.0
METHOD:PUBLISH
BEGIN:VEVENT
DTSTART:20260504T134500
LOCATION:DÃ¼bendorf, 8600 Dübendorf
TRANSP:OPAQUE
SEQUENCE:0
UID:6c91827b-7690-459c-82a4-158b33ad08a8-0
DTSTAMP:20260504T134500
DESCRIPTION:Der Kurs hat drei Schwerpunkte: \n\n- <strong>Deutsch</strong>: Die Grundlagen der deutschen Sprache in den vier Grundfertigkeiten Sprechen, Hören, Lesen und einfaches Schreiben sowie in der Grammatik werden erarbeitet und geübt. Dabei liegt der thematische Fokus auf dem Leben und der Arbeitswelt in der Schweiz. Im Kurs werden alltagsrelevanter und themenspezifischer Wortschatz, entsprechende Redemittel sowie grammatikalische Grundlagen (gemäss GER Sprachniveau A1) erworben und gefestigt.\n- <strong>Arbeitswelt</strong>: Die gezielte Einführung in die Schweizer Arbeitswelt und in erste Bewerbungsstrategien erfolgt an zwei Fokustagen pro Woche.\n- <strong>IKT / Alltagsmathematik</strong>: Die Grundkompetenzen in IKT und Alltagsmathematik werden je nach Vorkenntnissen erworben, gefestigt und aufgebaut.\n\nAnmeldeschluss: 14.04.2026\nDauer: 40 x 150 Min. (inkl. Pause)\n\nVoraussetzungen:\nDeutschkenntnisse auf Niveau A1.1\n\nZielgruppe:\nDeutschlernende mit wenig Vorkenntnissen (A1.1)\n\nKursziel:Ziel des Kurses ist es, die für den Einstieg in den gesellschaftlichen und beruflichen Alltag in der Schweiz notwendigen sprachlichen Voraussetzungen zu erlangen.Ebenso beinhaltet er den Erwerb von Kompetenzen, um sich im schweizerischen Umfeld â mit besonderem Fokus auf Berufswahl / Bewerbung / Arbeit â zurechtfinden zu können.\n\nhttps://www.wbk.ch/kurse/kursdetail/?course=26W-LACH-202\n\nKontakt\nWBK Dübendorf\nBettlistrasse 22\n8600 Dübendorf\n044 801 84 84\n\nVerfügbarkeit / Datum, Zeit\n4.5.2026 13:45 - \n\nPreis\nCHF 1980.00\n\nVorverkauf\nhttps://www.wbk.ch/kurse/kursdetail/?course=26W-LACH-202\n\n\nDas Angebot im Detail: https://www.guidle.com/angebote/1229688919/deutsch_in_der_schweiz_leben_und_arbeiten_a12/dubendorf\nQuelle: www.guidle.com
SUMMARY:Deutsch: In der Schweiz leben und arbeiten (A1.2)
PRIORITY:5
X-MICROSOFT-CDO-IMPORTANCE:1
CLASS:PUBLIC
BEGIN:VALARM
TRIGGER:-P1D
ACTION:DISPLAY
DESCRIPTION:Reminder
END:VALARM
END:VEVENT
END:VCALENDAR