BEGIN:VCALENDAR
PRODID:-//Microsoft Corporation//Outlook 11.0 MIMEDIR//EN
VERSION:2.0
METHOD:PUBLISH
BEGIN:VEVENT
DTSTART:20260508T200000
LOCATION:Schulhaus Scharans, Turnhalle, 7412 Scharans
TRANSP:OPAQUE
SEQUENCE:0
UID:67950051-f3af-4a1a-9f0e-dd2e728f3ee6-0
DTSTAMP:20260508T200000
DESCRIPTION:Unterhaltungsabend mit dem Cor viril Andeer und Männerchor Scharans. Die Einakter sorgen für lustige Unterhaltung.\nKeine Reservation erforderlich.\n\nhttps://corvirilandeer.ch\n\nKontakt\nCor viril Andeer und Männerchor Scharans \nAndreas Bott\nReischen 2\n7432 Zillis\n+41 81 661 19 81\n\nVerfügbarkeit / Datum, Zeit\n8.5.2026 20:00 - \n9.5.2026 20:00 - \n\nPreis\nErw. CHF 15.00, Kinder bis 16 Jahre kostenlos\n\n\nDas Angebot im Detail: https://www.guidle.com/angebote/1229922844/unterhaltungsabend_-_gesang_und_theater/scharans\nQuelle: https://www.guidle.com
SUMMARY:Unterhaltungsabend - Gesang und Theater
PRIORITY:5
X-MICROSOFT-CDO-IMPORTANCE:1
CLASS:PUBLIC
BEGIN:VALARM
TRIGGER:-P1D
ACTION:DISPLAY
DESCRIPTION:Reminder
END:VALARM
END:VEVENT
END:VCALENDAR