BEGIN:VCALENDAR
PRODID:-//Microsoft Corporation//Outlook 11.0 MIMEDIR//EN
VERSION:2.0
METHOD:PUBLISH
BEGIN:VEVENT
DTSTART:20270124T170000
LOCATION:Hotel Landgasthof Köchlin Kemptener Straße 41, 88131 Lindau (Bodensee)
TRANSP:OPAQUE
SEQUENCE:0
UID:5c21175d-3af2-49e5-b492-b50bb94f47c7-0
DTSTAMP:20270124T170000
DESCRIPTION:Das Kriminal Dinner ‘Blutbad im Gemeinderat‘ – ein köstliches Gänge-Menü in stilvollem Ambiente umrahmt von einem spannenden Kriminalfall im Hotel Landgasthof Köchlin in Lindau.\n\n´Blutbad im Gemeinderat´\n\nStellen Sie sich einen beschaulichen Ort im schönen Badnerland vor. Umgeben von Flüssen, Wiesen und hügeliger Landschaft liegt Muggenhofen. Das Dörfchen, fernab von jeglichem Großstadtgetümmel, aufregendem Nachtleben oder hektischem Umtrieb lädt in einer beharrlichen Beschaulichkeit dazu ein, dort seine Heimat zu finden. \n\nAlles läuft seit Jahrzehnten in der gleichen Konstanz, Tag für Tag, Jahr für Jahr, bis zu dem Tag, an dem das allseits geschätzte Gemeindeoberhaupt, der Muggenhofner Bürgermeister ermordet aufgefunden wird.\nEin Mord in Muggenhofen? Und dann auch noch der Bürgermeister? Polizeihauptmeister Gustav Heberlein steht vor einem Rätsel. Mit seiner Kofferschreibmaschine und seiner Vesperbox macht er sich auf die Suche nach dem Mörder. Kommt dieser etwa aus den Reihen der verschworenen Dorfgemeinschaft? War es etwa ein Zugereister, Neigeschmeckter, gar ein Ortsbewohner? Was hat Eulalia Schreiblinger mit der Geschichte zu tun und wie weit ist Sie in die Machenschaften des Gemeinderates verstrickt?\n\nDas Gänge-Menü wird vom Hotel Landgasthof Köchlin kreiert und serviert. Ab 17 Uhr wird das Krimi Dinner eröffnet, das Kitzel für Nerven und Gaumen garantieren wird. Einlass ist um 16:30 Uhr.\n\nKontakt\nengesser marketing GmbH\nJosef-Beyerle-Straße 28\n\nVerfügbarkeit / Datum, Zeit\n24.1.2027 17:00 - \n\nEinlass: 16:30 Uhr / Menü und Theaterstück sind im Preis inbegriffen / Tisch- und Sitzplätze werden vor Ort zugewiesen\n\nPreis\n89.90€\nSchwerbehinderte Personen und deren Begleitpersonen zahlen jeweils den Normalpreis.\n\nVorverkauf\nhttps://guidle.reservix.de/p/reservix/event/2512212\n\n\nDas Angebot im Detail: https://www.guidle.com/angebote/1230211190/das_kriminal_dinner_-_krimidinner_mit_kitzel_fur_nerven_und_gaumen/lindau_bodensee\nQuelle: https://www.guidle.com
SUMMARY:Das Kriminal Dinner - Krimidinner mit Kitzel für Nerven und Gaumen
PRIORITY:5
X-MICROSOFT-CDO-IMPORTANCE:1
CLASS:PUBLIC
BEGIN:VALARM
TRIGGER:-P1D
ACTION:DISPLAY
DESCRIPTION:Reminder
END:VALARM
END:VEVENT
END:VCALENDAR