BEGIN:VCALENDAR
PRODID:-//Microsoft Corporation//Outlook 11.0 MIMEDIR//EN
VERSION:2.0
METHOD:PUBLISH
BEGIN:VEVENT
DTSTART:20260927T110000
DTEND:20260930T180000
LOCATION:Ittinger Museum, Kartause Ittingen, 8532 Warth
TRANSP:OPAQUE
RRULE:FREQ=WEEKLY;INTERVAL=1;UNTIL=20260930T180000;WKST=MO;BYDAY=MO,TU,WE,TH,FR,SA,SU
UID:40bd3933-18ce-4425-a781-dfcd0f20a9ed-0
DTSTAMP:20260927T110000
DESCRIPTION:Der Ittinger Kartäuser Josephus Wech (1702–1761) hat ein eindrückliches schriftliches Werk hinterlassen. Er war früh in der Verwaltung tätig und hatte schliesslich die Funktion des Procurators inne, das heisst, er war der für die Wirtschaft verantwortliche Mönch. Neben seinen Verwaltungshandbüchern ragt ein Werk besonders heraus: die auf das Jahr 1745 datierte Güterkarte mit den Massen von ca. 3,2 × 5 Meter.\n\nDieses monumentale Meisterwerk der Kartografie wird in der Ausstellung erstmals öffentlich gezeigt.\n\nhttps://ittingermuseum.tg.ch/\n\nKontakt\nIttinger Museum\nKartause Ittingen\n8532 Warth\n058 345 10 60 (Museum)\n\nVerfügbarkeit / Datum, Zeit\n27.9.2026 - 30.9.2026 11:00 - 18:00\n1.10.2026 - 31.12.2026 14:00 - 17:00 Mo, Di, Mi, Do, Fr\n1.10.2026 - 31.12.2026 11:00 - 17:00 Sa, So\n\nPreis\nErwachsene: CHF 10.00 / 7.00\nKinder bis 16 Jahre gratis\n\n\nDas Angebot im Detail: https://www.guidle.com/angebote/1230277461/die_ittinger_guterkarte_von_1745__ein_herausragendes_werk_der_kartografie/warth\nQuelle: https://www.guidle.com
SUMMARY:Die Ittinger Güterkarte von 1745 – ein herausragendes Werk der Kartografie
PRIORITY:5
X-MICROSOFT-CDO-IMPORTANCE:1
CLASS:PUBLIC
BEGIN:VALARM
TRIGGER:-P1D
ACTION:DISPLAY
DESCRIPTION:Reminder
END:VALARM
END:VEVENT
END:VCALENDAR