BEGIN:VCALENDAR
PRODID:-//Microsoft Corporation//Outlook 11.0 MIMEDIR//EN
VERSION:2.0
METHOD:PUBLISH
BEGIN:VEVENT
DTSTART:20260411
LOCATION:Ausstellung Oberhaushof Seestrasse 4, 8714 Feldbach
TRANSP:OPAQUE
RRULE:FREQ=WEEKLY;INTERVAL=1;UNTIL=20261031;WKST=MO;BYDAY=MO,TU,WE,TH,FR,SA,SU
UID:3075110d-1c41-45e8-80b2-9a91af04c080-0
DTSTAMP:20260411T120000
DESCRIPTION:Tauchen Sie ein in mehr als 250 Jahre Hof- und Familiengeschichte: Die Ausstellung im historischen Oberhaus lässt Sie das Leben in der Region Zürichsee seit der vorindustriellen Zeit nachempfinden.\n\nDie Ausstellung Oberhaushof versammelt Objekte und Geschichten von zehn Generationen der Familie Bühler, die auf diesem Hof gelebt und gearbeitet haben.\n\nBei einem geführten Gang durch das historische Oberhaus tauchen Sie in den unterschiedlichen Räumen in die vielfältige Vergangenheit des Lebens am Ufer des Zürichsees ein und lernen Frauen und Männer kennen, die die Geschicke des Hofs und der Familie geprägt haben.\n\nSo begegnen Sie beispielsweise dem Erbauer des Oberhauses oder der viel gereisten Tante, die mit Aktien handelte. Sie sehen, wie die Bewohner des Hauses gewohnt haben, woran sie gearbeitet haben und womit sie sich in ihrer Freizeit beschäftigten.\n\nDabei betrachten Sie die Exponate nicht nur von fern hinter Glas, sondern bewegen sich in den historischen Räumen zwischen dem antiken Mobiliar und dürfen auch einzelne Objekte zur Hand nehmen und von Nahem anschauen.\n\nhttps://ausstellungoberhaushof.ch/\n\nKontakt\nAusstellung Oberhaushof\n+41 79 571 31 14\n\nVerfügbarkeit / Datum, Zeit\n11.4.2026 - 31.10.2026 \n\nBesuchen Sie die Ausstellung im Rahmen einer öffentlichen oder privaten Führung. Wir bieten jeweils von April bis Oktober Führungen an.\n\nDie aktuellen Führungsdaten finden Sie auf unserer Website.\n\nPreis\nÖffentliche Führungen: CHF 30 pro Person\n\nPrivate Führungen: CHF 250 für Gruppen bis 10 Personen / CHF 450 für Gruppen bis 20 Personen\n\n\nDas Angebot im Detail: https://www.guidle.com/angebote/1230286151/ausstellung_oberhaushof/feldbach\nQuelle: www.guidle.com
SUMMARY:Ausstellung Oberhaushof
PRIORITY:5
X-MICROSOFT-CDO-IMPORTANCE:1
CLASS:PUBLIC
BEGIN:VALARM
TRIGGER:-P1D
ACTION:DISPLAY
DESCRIPTION:Reminder
END:VALARM
END:VEVENT
END:VCALENDAR