BEGIN:VCALENDAR
PRODID:-//Microsoft Corporation//Outlook 11.0 MIMEDIR//EN
VERSION:2.0
METHOD:PUBLISH
BEGIN:VEVENT
DTSTART:20260501T120000
DTEND:20260510T170000
LOCATION:Kunst im Pumpenhaus Leimern 49, 3150 Schwarzenburg
TRANSP:OPAQUE
RRULE:FREQ=WEEKLY;INTERVAL=1;UNTIL=20260510T170000;WKST=MO;BYDAY=FR,SA,SU
UID:c57e2c1c-7e3e-43dc-95bd-e45fdbf4d4b6-0
DTSTAMP:20260501T120000
DESCRIPTION:Neuste Bilder; Meine Liebe gilt der Natur. Mit der Sprache der Aquarelle kann ich die zarte Erotik einer Iris, die berauschende Rose, das Feuer einer Taglilie schildern.\nWiesen, Wälder, Wasser und Wolken inspirieren mich. Ihre Farben, Licht und Schattenspiele fordern mich heraus.\n\n\nhttps://www.kunstimpumpenhaus.ch\n\nKontakt\nKunstimpumpenhaus\nAnnette Haldi \nVermieterin Pumpenhaus\nMilkenstrasse 17 / Leimern 49\n3150 Schwarzenburg BE\n+41795486858\n\nVerfügbarkeit / Datum, Zeit\n1.5.2026 - 10.5.2026 12:00 - 17:00 Fr, Sa, So\n\nFreitag, 1. Mai Vernissage von 18-20 Uhr,  Sonntag 10. Mai Finissage 12-17 Uhr,\nam Samstag bis 18 Uhr / am Sonntag bis 17 Uhr geöffnet, am Freitag, 18-20 Uhr, Mittwoch 6. Mai 14-18 Uhr\n\n\nDas Angebot im Detail: https://www.guidle.com/angebote/1230539171/ursula_staudenmann_schwarzenburg__no_einisch_neuste_bilder/schwarzenburg\nQuelle: https://www.guidle.com
SUMMARY:Ursula Staudenmann, Schwarzenburg " no einisch" Neuste Bilder  
PRIORITY:5
X-MICROSOFT-CDO-IMPORTANCE:1
CLASS:PUBLIC
BEGIN:VALARM
TRIGGER:-P1D
ACTION:DISPLAY
DESCRIPTION:Reminder
END:VALARM
END:VEVENT
END:VCALENDAR