BEGIN:VCALENDAR
PRODID:-//Microsoft Corporation//Outlook 11.0 MIMEDIR//EN
VERSION:2.0
METHOD:PUBLISH
BEGIN:VEVENT
DTSTART:20261018T170000
LOCATION:Theater Fauteuil - Tabourettli Spalenberg 12, 4051 Basel
TRANSP:OPAQUE
SEQUENCE:0
UID:06f59141-a6c8-4583-9aca-4faebda6ff68-0
DTSTAMP:20261018T170000
DESCRIPTION:«Cabaret Sorelle Forelle» feierte am 18. September 2025 Premiere im Teatro Dimitri in Verscio. Und dies – nicht ohne Zufall – am 90. Geburtstag von Papa und Clown Dimitri.\n\nDrei Frauen – drei Clowns – ein Abend voller Widersprüche und Überraschungen. Schön, stark, mutig … und manchmal gefährlich! Mit viel Humor, Musik und einer guten Portion Verrücktheit zeigen die drei aussergewöhnlichen Künstlerinnen ein Cabaret der besonderen Art. Poetisch und gleichzeitig komisch, feinfühlig und frech und dabei immer wieder überraschend, leichtfüssig und grotesk. Sie spielen, singen, tanzen und stolpern durch das Leben – jede auf ihre Weise, und doch passen sie wunderbar zusammen.\n\nEin Abend für alle, die lachen, staunen und die Kraft der Frauen feiern wollen.\n\nNINA DIMITRI, SILVANA GARGIULO UND MASHA DIMITRI\n\nRegie: Ueli Bichsel\n\nhttps://www.fauteuil.ch\n\nKontakt\nTheater Fauteuil\nSpalenberg 12\n4051 Basel\n+41 61 261 26 10\n\nVerfügbarkeit / Datum, Zeit\n18.10.2026 17:00 - \n\n75 Min. ohne Pause\n\nPreis\nCHF 39.00/49.00\n\nVorverkauf\nTheaterkasse am Spalenberg 12, Telefon 061 261 26 10\nhttps://www.fauteuil.ch/spielplan/famiglia-dimitri-cabaret-sorelle-forelle/\n\n\nDas Angebot im Detail: https://www.guidle.com/angebote/1230589297/famiglia_dimitri_mit_-_cabaret_sorelle_forelle/basel\nQuelle: https://www.guidle.com
SUMMARY:Famiglia Dimitri mit - Cabaret Sorelle Forelle
PRIORITY:5
X-MICROSOFT-CDO-IMPORTANCE:1
CLASS:PUBLIC
BEGIN:VALARM
TRIGGER:-P1D
ACTION:DISPLAY
DESCRIPTION:Reminder
END:VALARM
END:VEVENT
END:VCALENDAR