BEGIN:VCALENDAR
PRODID:-//Microsoft Corporation//Outlook 11.0 MIMEDIR//EN
VERSION:2.0
METHOD:PUBLISH
BEGIN:VEVENT
DTSTART:20260523T173000
DTEND:20260523T223000
LOCATION:Schloss Wildegg Effingerweg 5, 5103 Wildegg
TRANSP:OPAQUE
SEQUENCE:0
UID:d03e7a59-573e-429a-8708-c8aa869323d3-0
DTSTAMP:20260523T173000
DESCRIPTION:Schloss Wildegg richtet ein zauberhaftes Frühlingsfest im Stile der Belle Epoque aus. Das Dienstpersonal verwöhnt die Gäste mit einem exquisiten Abendessen und Unterhaltung. Auf dem Programm stehen Live-Musik, Tanz, Schlossbesichtigung und eine kurze Einführung in den Knigge à la Belle Epoque. An der Cocktailbar erzählt der Barkeeper Geschichten über Cocktail-Klassiker. Ein unvergesslicher Abend im Zeichen der Nostalgie! Wer möchte, nimmt im Kostüm am Fest teil.\n\nhttps://www.museumaargau.ch/schloss-wildegg/event/belle-epoque-fest\n\nKontakt\nMuseum Aargau - Schloss Wildegg\nEffingerweg 5\n5103 Wildegg\n+41 (0)848 871 200\n\nVerfügbarkeit / Datum, Zeit\n23.5.2026 17:30 - 22:30\n\nPreis\nCHF 130.00, inkl. Welcome-Drink, Abendessen (Buffet) mit Getränken, Benimmkurs und Schlossbesichtigung (Cocktails gegen Bezahlung)\n\nVorverkauf\nDie Platzzahl ist beschränkt, Online-Buchung erforderlich bis 10. Mai 2026.\nhttps://shop.museumaargau.ch/de/guided-tours/963\n\n\nDas Angebot im Detail: https://www.guidle.com/angebote/1230726163/fruhlingsfest__dinieren_wie_in_der_belle_epoque/wildegg\nQuelle: https://www.guidle.com
SUMMARY:Frühlingsfest – Dinieren wie in der Belle Epoque
PRIORITY:5
X-MICROSOFT-CDO-IMPORTANCE:1
CLASS:PUBLIC
BEGIN:VALARM
TRIGGER:-P1D
ACTION:DISPLAY
DESCRIPTION:Reminder
END:VALARM
END:VEVENT
END:VCALENDAR