BEGIN:VCALENDAR
PRODID:-//Microsoft Corporation//Outlook 11.0 MIMEDIR//EN
VERSION:2.0
METHOD:PUBLISH
BEGIN:VEVENT
DTSTART:20261226T193000
DTEND:20261226T220000
LOCATION:Tonhalle Museumstrasse 25, 9000 St. Gallen
TRANSP:OPAQUE
SEQUENCE:0
UID:f19488e4-f923-43df-a6c0-b07bb02bac85-0
DTSTAMP:20261226T193000
DESCRIPTION:Giuseppe Verdi gilt als Meister der grossen Gefühle. Seine Musik vereint Leidenschaft, Melodie und italienisches Lebensgefühl. Die Giuseppe Verdi Gala lädt dazu ein, in die faszinierende Welt seiner Opern einzutauchen – mit den schönsten Arien, Duetten und Chören aus Aida, La Traviata, Nabucco, Macbeth, Rigoletto, Der Troubadour, Don Carlos und weiteren Werken von Giuseppe Verdi.\n\nDas Publikum erlebt eine abwechslungsreiche Auswahl der beliebtesten Szenen, die Verdis musikalische Vielfalt zeigen – von ergreifender Dramatik bis zu feinem Humor. Die zauberhaften Chöre mit dem berühmten Va pensiero aus Nabucco oder dem Triumphmarsch aus Aida sind nur zwei der Höhepunkte. Die international gefeierte Opera Polska - gegründet im Jahre 1989 von Maestro Marek Tracz - mit Orchester, Solisten und Chor begeistert mit Präzision, schönen Kostümen und eindrucksvoller Bühnenwirkung.\n\nEin festlicher Abend für Musikbegeisterte und Familien gleichermassen. So darf getrost ausgerufen werden: Es lebe Verdi! Viva Verdi!\n\nhttps://dominoevent.ch/verdigala/\n\nKontakt\ndomino Event SARL\nRosenbergstrasse 14\n9000 St. Gallen\n+41 71 552 20 30\n\nVerfügbarkeit / Datum, Zeit\n26.12.2026 19:30 - 22:00\n\nPreis\n1. Kategorie: CHF 110.00\n2. Kategorie: CHF 95.00\n\nVorverkauf\nhttps://dominoevent.ch/verdigala/\n\n\nDas Angebot im Detail: https://www.guidle.com/angebote/1230773423/die_grosse_giuseppe_verdi_gala/st_gallen\nQuelle: https://www.guidle.com
SUMMARY:Die grosse Giuseppe Verdi Gala
PRIORITY:5
X-MICROSOFT-CDO-IMPORTANCE:1
CLASS:PUBLIC
BEGIN:VALARM
TRIGGER:-P1D
ACTION:DISPLAY
DESCRIPTION:Reminder
END:VALARM
END:VEVENT
END:VCALENDAR