BEGIN:VCALENDAR
PRODID:-//Microsoft Corporation//Outlook 11.0 MIMEDIR//EN
VERSION:2.0
METHOD:PUBLISH
BEGIN:VEVENT
DTSTART:20260424T090000
DTEND:20260628T180000
LOCATION:Palais de Beaulieu, Halle 35 Avenue Bergières 10, 1004 Lausanne
TRANSP:OPAQUE
RRULE:FREQ=WEEKLY;INTERVAL=1;UNTIL=20260628T180000;WKST=MO;BYDAY=WE,TH,FR,SA,SU
UID:21c5c62d-23c9-4951-8232-56ea32584501-0
DTSTAMP:20260424T090000
DESCRIPTION:Die von Annabelle Mauger und Julien Baron mit Unterstützung der Kunsthistorikerin Androula Michael entworfene Ausstellung besteht aus mehreren sich ergänzenden Bereichen: Ein blumengeschmückter Eingang, der von der Brücke von Giverny inspiriert ist, ein pädagogischer Bereich, der das Leben, die Perioden und den künstlerischen Ansatz von Monet nachzeichnet, ein grosser immersiver Saal mit „Image Totale ©”-Projektionen in einer 30-minütigen Schleife, die den Besucher in das Herz der Gemälde eintauchen lassen, sowie ein immersiver interaktiver Bereich, der speziell für Kinder bestimmt ist.Die Ausstellung beleuchtet Monets Streben, das Licht und den Augenblick einzufangen, und macht sein Werk, darunter insbesondere die Seerosen, zu einem Vorgeschmack auf die zeitgenössischen immersiven Erfahrungen, in einem zugänglichen, spielerischen und kontemplativen Parcours, der für alle Zielgruppen bestimmt ist.\n\nhttps://www.lausanne-tourisme.ch/de/veranstaltung/imagine-monet-die-immersive-ausstellung/\n\nKontakt\nBeaulieu Lausanne (Halle 35)\nAvenue des Bergières 10\n1004 Lausanne\n\nVerfügbarkeit / Datum, Zeit\n11.3.2026 - 28.6.2026 09:00 - 18:00 Mi, Do, Fr, Sa, So\n\n\nDas Angebot im Detail: https://www.guidle.com/angebote/1230780545/imagine_monet_die_immersive_ausstellung/lausanne\nQuelle: https://www.guidle.com
SUMMARY:Imagine Monet, die immersive Ausstellung
PRIORITY:5
X-MICROSOFT-CDO-IMPORTANCE:1
CLASS:PUBLIC
BEGIN:VALARM
TRIGGER:-P1D
ACTION:DISPLAY
DESCRIPTION:Reminder
END:VALARM
END:VEVENT
END:VCALENDAR