BEGIN:VCALENDAR
PRODID:-//Microsoft Corporation//Outlook 11.0 MIMEDIR//EN
VERSION:2.0
METHOD:PUBLISH
BEGIN:VEVENT
DTSTART:20260614T113000
LOCATION:Röm.-kath. Kirche St.Stefan Bernrainstrasse 10, 8280 Kreuzlingen
TRANSP:OPAQUE
SEQUENCE:0
UID:8d823cd5-6dd9-4476-b811-b92886e3ebce-0
DTSTAMP:20260614T113000
DESCRIPTION:Der Stefanschor Kreuzlingen lädt Sie ganz herzlich zum Sommerkonzert 2026 ein! Zu hören gibt es zwei wundervolle Werke der Wiener Klassik: Wolfgang Amadeus Mozarts „Litaniae Lauretanae“ KV 195 und Joseph Haydns „Missa Sancti Joannis de Deo“.\n\nMozarts Lauretanische Litanei gehört zu den reizvollsten geistlichen Werken seiner Salzburger Jahre. Sie vertont die traditionelle marianische Anrufungskette, in der sich flehentlicher Bittgesang mit lobpreisender Verehrung der Gottesmutter Maria verbindet. Trotz seines jungen Alters zeigt Mozart hier bereits beeindruckende Reife: klare Strukturen, innige Melodik und abwechslungsreiche Satzcharaktere. Vom feierlichen Beginn bis zum strahlenden Schluss entfaltet das Werk eine lebendige spirituelle Ausdruckskraft, die Chor und Solisten gleichermaßen fordert und inspiriert.\n\nHaydns „Missa Sancti Joannis de Deo“ bildet dazu einen warmen, besinnlichen Gegenpol. Mit ihrer lichtdurchfluteten Schlichtheit und dem berühmten Benedictus für Soli und Orgel strahlt sie eine stille, tröstliche Schönheit aus, die bis heute berührt.\n\nGemeinsam eröffnen diese beiden Werke ein stilistisch abwechslungsreiches, musikalisch erfüllendes Projekt – eine wunderbare Gelegenheit, Klangfreude, Präzision und Ausdruck in gemeinschaftlichem Singen zu verbinden. Das Orchester mit Streichern, Fagott, Oboen, Posaunen und Hörnern wird zum beeindruckenden Klang in der Kirche St. Stefan beitragen.\n\nTraditionell gibt es bei den Konzerten des Stefanschores immer auch einen Teil, in dem die Zuhörerinnen und Zuhörer eingeladen sind, bei bekannten und passenden Liedern, zusammen mit dem Chor und dem Orchester, mit ihrem Gesang mit einzustimmen. Ausserdem hält die tolle Kirche mit ihrem Klang noch weitere musikalische Überraschungen bereit und es gibt thematische Impulse von Dirigent Nicolas Borner und Pfarrer Edwin Stier.\n\nTeile der Werke gibt es auch im feierlichen Pastoralraumgottesdienst zum Herz-Jesu-Fest am selber Tag um 09:45 Uhr in St. Stefan zu hören.\n\nSopran: Adriane Kienzler\nAlt: Marieke Potts\nTenor: Aeneas Borner\nBass: Ulf Friederichs\n\nDirigent: Kirchenmusiker Nicolas Borner\n\nhttps://www.kath-kreuzlingen.ch/kirchenmusik\n\nKontakt\nKatholische Kirchgemeinde Kreuzlingen\nNicolas Borner\nKirchenmusiker\nGaissbergstrasse 1\n8280 Kreuzlingen\n+41 71 55 28 566\n\nVerfügbarkeit / Datum, Zeit\n14.6.2026 11:30 - \n\nPreis\nEintritt frei / Kollekte\n\n\nDas Angebot im Detail: https://www.guidle.com/angebote/1230833319/mozart_litaniae_lauretanae_kv_195__haydn_missa_sancti_joannis_de_deo/kreuzlingen\nQuelle: https://www.guidle.com
SUMMARY:Mozart Litaniae Lauretanae KV 195 | Haydn Missa Sancti Joannis de Deo
PRIORITY:5
X-MICROSOFT-CDO-IMPORTANCE:1
CLASS:PUBLIC
BEGIN:VALARM
TRIGGER:-P1D
ACTION:DISPLAY
DESCRIPTION:Reminder
END:VALARM
END:VEVENT
END:VCALENDAR