BEGIN:VCALENDAR
PRODID:-//Microsoft Corporation//Outlook 11.0 MIMEDIR//EN
VERSION:2.0
METHOD:PUBLISH
BEGIN:VEVENT
DTSTART:20260515T191500
LOCATION:Röm.-kath. Kirche St.Stefan Bernrainstrasse 10, 8280 Kreuzlingen
TRANSP:OPAQUE
SEQUENCE:0
UID:67b219d8-0fa6-4bed-aeb5-53029d808643-0
DTSTAMP:20260515T191500
DESCRIPTION:In St. Stefan Kreuzlingen-Emmishofen gibt es 30 bis 45 Minuten wunderschöne Orgelmusik, Instrumental- und/oder Vokalmusik konzertant zum Entspannen und Geniessen zu hören.\n\nDabei interpretiert Kirchenmusiker Nicolas Borner die Orgel und den Kirchenraum auf eine moderne Art und Weise. Die Orgel wächst dabei über ihre Funktion als Instrument zur Gemeindebegleitung hinaus und es sind zusätzlich zur klassischen Literatur immer wieder moderne Arrangements und Improvisationen von Nicolas Borner zu hören. Zum Programm zählen auch immer wieder Gastmusiker, Vokalkonzerte, Instrumentalkonzerte und neuerdings auch Orgelspaziergänge zu den Orgeln der Region Kreuzlingen-Konstanz.\n\nDie Orgel in St.Stefan hat in diesem wundervollen Raum einen besonders vollen und orchestralen Klang. Neben modernen Arrangements widmet sich Nicolas Borner auch mit Leidenschaft den altbekannten Orgelmeistern wie Bach, Reger oder Mendelssohn.\n\nDieses Konzept führt zu einem grossen Interesse am Orgel Z’Nacht und die Zuhörerzahlen nehmen stetig zu.\n\nhttps://www.kath-kreuzlingen.ch/kirchenmusik\n\nKontakt\nNicolas Borner\nKirchenmusiker\n8280 Kreuzlingen\n\nVerfügbarkeit / Datum, Zeit\n15.5.2026 19:15 - \n\nPreis\nEintritt frei - Kollekte\n\n\nDas Angebot im Detail: https://www.guidle.com/angebote/1230833336/orgel_znacht_-_die_kirchenorgel_modern_interpretiert/kreuzlingen\nQuelle: https://www.guidle.com
SUMMARY:Orgel Z'Nacht - Die Kirchenorgel modern interpretiert!
PRIORITY:5
X-MICROSOFT-CDO-IMPORTANCE:1
CLASS:PUBLIC
BEGIN:VALARM
TRIGGER:-P1D
ACTION:DISPLAY
DESCRIPTION:Reminder
END:VALARM
END:VEVENT
END:VCALENDAR