BEGIN:VCALENDAR
PRODID:-//Microsoft Corporation//Outlook 11.0 MIMEDIR//EN
VERSION:2.0
METHOD:PUBLISH
BEGIN:VEVENT
DTSTART:20260424T100000
DTEND:20260424T180000
LOCATION:San Salvatore 2, 6900 Paradiso
TRANSP:OPAQUE
SEQUENCE:0
UID:54ee93a4-b9fb-418a-9309-a5523f338938-0
DTSTAMP:20260424T100000
DESCRIPTION:Die Ausstellung entspringt einer gemeinsamen Reflexion über die Katze in ihrem ursprünglichen Wesen und über die Beziehung, die Menschen heute zu ihr pflegen.\n\nWie betrachten wir sie? Und wie betrachtet sie uns?\n\nDie Katze wird so zu einer liminalen Figur, die Alltäglichkeit und Symbol, Intimität und Distanz, Beobachtung und Geheimnis zu durchqueren vermag.\n\nDie beteiligten Künstlerinnen und Künstler wurden eingeladen, mit einem oder mehreren Bildern teilzunehmen, die dieses Thema interpretieren. Aus diesem Prozess sind ein Fotobuch – kuratiert von Caterina De Pietri und veröffentlicht von Artphilein Editions – sowie eine Ausstellung entstanden, die dessen räumliche Erweiterung darstellt.\n\nDer Band wird von einem kritischen Text des Philosophen Matteo Maria Paolucci begleitet, der die symbolischen, kulturellen und relationalen Implikationen der Katzenfigur vertieft.\n\nDie Ausstellung zeigt Reproduktionen der Bilder der Künstlerinnen und Künstler sowie eine Auswahl von Fotobüchern über Katzen aus der ganzen Welt und bietet damit einen breiten, vielschichtigen Blick auf ein ebenso vertrautes wie rätselhaftes Sujet.\n\n<strong>Kostenlos</strong>\n\nVerfügbarkeit / Datum, Zeit\n24.4.2026 10:00 - 18:00\n28.4.2026 10:00 - 18:00\n29.4.2026 10:00 - 18:00\n30.4.2026 10:00 - 18:00\n1.5.2026 10:00 - 18:00\n5.5.2026 10:00 - 18:00\n6.5.2026 10:00 - 18:00\n7.5.2026 10:00 - 18:00\n8.5.2026 10:00 - 18:00\n12.5.2026 10:00 - 18:00\n13.5.2026 10:00 - 18:00\n14.5.2026 10:00 - 18:00\n15.5.2026 10:00 - 18:00\n19.5.2026 10:00 - 18:00\n20.5.2026 10:00 - 18:00\n21.5.2026 10:00 - 18:00\n22.5.2026 10:00 - 18:00\n\nPreis\n<strong>Kostenlos</strong>\n\n\nDas Angebot im Detail: https://www.guidle.com/angebote/1230873315/you_cant_frame_me__group_exhibition/paradiso\nQuelle: https://www.guidle.com
SUMMARY:You Can't Frame Me – Group Exhibition
PRIORITY:5
X-MICROSOFT-CDO-IMPORTANCE:1
CLASS:PUBLIC
BEGIN:VALARM
TRIGGER:-P1D
ACTION:DISPLAY
DESCRIPTION:Reminder
END:VALARM
END:VEVENT
END:VCALENDAR