BEGIN:VCALENDAR
PRODID:-//Microsoft Corporation//Outlook 11.0 MIMEDIR//EN
VERSION:2.0
METHOD:PUBLISH
BEGIN:VEVENT
DTSTART:20260425T083000
DTEND:20260425T160000
LOCATION:Evang.-ref. Kirche Wahlern Wahlernstrasse, 3150 Schwarzenburg
TRANSP:OPAQUE
SEQUENCE:0
UID:b444848e-f55d-4315-90e4-2f0076f6a95c-0
DTSTAMP:20260425T083000
DESCRIPTION:Das Bannholz ist ein Waldgebiet am Rande von Schwarzenburg. In den letzten fünf Jahren ist dort ein wahres Naturparadies entstanden. Es blüht in allen Farben, flattert und summt, Vögel singen, Kleinsäuger und Frösche können mit etwas Glück entdeckt werden. Auch Wildbienen sind im Bannholz heimisch.\n\nJedes Jahr pflegt der Naturpark Gantrisch in Zusammenarbeit mit dem Naturschutzverein Schwarzenburg den stufigen Waldrand, um die wunderschöne und lehrreiche Artenvielfalt an Pflanzen und Tieren zu erhalten. Unter fachkundiger Anleitung werden Kleinstrukturen, Laich- und Brutplätze wie die Stockmauer, Stein- und Asthaufen, der Teich, Labyrinthweg und Nesselgarten, sowie Wege und Böschungen wieder auf Vordermann gebracht.\n\nNach der Winterperiode beginnt im Frühjahr die Natur zu spriessen! Damit das neue Leben Platz findet im Bannholz, werden bei dem Frühjahrseinsatz grössere Arbeiten im Bannholz verrichtet. Dazu gehören das Schneiden und Auslichten, Rechen, Unkraut entfernen – die Arbeit geht nie aus!\n\nKomm vorbei und hilf mit, das Bannholz für die Sommersaison vorzubereiten. | Vom Bahnhof Schwarzenburg ist es ein 25 minütiger Fussmarsch zu der Kirche Wahlern. Rechnet bei der Anreise genug Zeit dafür ein.\n\nhttp://www.gantrisch.ch\n\nKontakt\nNaturpark Gantrisch\nSchlossgasse 13\n3150 Schwarzenburg\n+41 (0)31 808 00 20\n\nVerfügbarkeit / Datum, Zeit\n25.4.2026 08:30 - 16:00\n\nDer Einsatz findet bei jedem Wetter statt. Bitte bringe angemessene Kleider mit.\n\nVorverkauf\nNaturpark Gantrisch, Förderverein Region Gantrisch , Schlossgasse 13, 3150 Schwarzenburg, +41 (0)31 808 00 20, info@gantrisch.ch, http://www.gantrisch.ch\nhttps://angebote.paerke.ch/de/subscription/subscriber/48494\n\n\nDas Angebot im Detail: https://www.guidle.com/angebote/1230971106/zama_furs_naturparadies__das_bannholz_wird_ausgewintert/schwarzenburg\nQuelle: https://www.guidle.com
SUMMARY:Zämä fürs Naturparadies – das Bannholz wird ausgewintert!
PRIORITY:5
X-MICROSOFT-CDO-IMPORTANCE:1
CLASS:PUBLIC
BEGIN:VALARM
TRIGGER:-P1D
ACTION:DISPLAY
DESCRIPTION:Reminder
END:VALARM
END:VEVENT
END:VCALENDAR