BEGIN:VCALENDAR
PRODID:-//Microsoft Corporation//Outlook 11.0 MIMEDIR//EN
VERSION:2.0
METHOD:PUBLISH
BEGIN:VEVENT
DTSTART:20260424T100000
DTEND:20260424T120000
LOCATION:Jardin Botanique de Genève Chemin de l'Impératrice 1, 1292 Chambésy
TRANSP:OPAQUE
SEQUENCE:0
UID:00eb4e52-1b99-4854-9e09-63d4cd87aa63-0
DTSTAMP:20260424T100000
DESCRIPTION:Entdecken Sie ein wissenschaftliches und ästhetisches Objekt, das von Jean-Jacques Rousseaus Leidenschaft für die Natur und die Botanik zeugt: eines seiner seltenen tragbaren Herbarien, das dazu gedacht war, die Kenntnisse über Pflanzen zu vertiefen und die Freude an der Botanik zu wecken. Kann es auch Ihre Begeisterung wecken? Der Genfer Philosoph und Schriftsteller Jean-Jacques Rousseau (1712-1778) widmete die letzten zehn Jahre seines Lebens der Anfertigung tragbarer Herbarien, die er an Personen verschenkte oder verkaufte, die seine Begeisterung für die Botanik teilen wollten. Im Jahr 2024 wurde das Herbarium, das für den Drucker und Buchhändler Charles-Joseph Panckoucke (1736-1798) angefertigt wurde und eines von drei bekannten Exemplaren von Rousseaus Hand ist, in unserer Institution ausgestellt.\n\n\nHinweis: Dieser Text wurde von einer Software für maschinelle Übersetzungen und nicht von einem menschlichen Übersetzer übersetzt. Er kann Übersetzungsfehler aufweisen.\n\nhttps://www.cjbg.ch/expositions/jamais-nature-ne-nous-trompe\n\nVerfügbarkeit / Datum, Zeit\n24.4.2026 10:00 - 12:00\n24.4.2026 13:30 - 16:30\n27.4.2026 13:30 - 16:30\n28.4.2026 10:00 - 12:00\n28.4.2026 13:30 - 16:30\n29.4.2026 10:00 - 16:30\n30.4.2026 10:00 - 12:00\n30.4.2026 13:30 - 16:30\n1.5.2026 10:00 - 12:00\n1.5.2026 13:30 - 16:30\n4.5.2026 13:30 - 16:30\n5.5.2026 10:00 - 12:00\n5.5.2026 13:30 - 16:30\n6.5.2026 10:00 - 16:30\n7.5.2026 10:00 - 12:00\n7.5.2026 13:30 - 16:30\n8.5.2026 10:00 - 12:00\n8.5.2026 13:30 - 16:30\n11.5.2026 13:30 - 16:30\n12.5.2026 10:00 - 12:00\n12.5.2026 13:30 - 16:30\n13.5.2026 10:00 - 16:30\n14.5.2026 10:00 - 12:00\n14.5.2026 13:30 - 16:30\n15.5.2026 10:00 - 12:00\n15.5.2026 13:30 - 16:30\n18.5.2026 13:30 - 16:30\n19.5.2026 10:00 - 12:00\n19.5.2026 13:30 - 16:30\n20.5.2026 10:00 - 16:30\n21.5.2026 10:00 - 12:00\n21.5.2026 13:30 - 16:30\n22.5.2026 10:00 - 12:00\n22.5.2026 13:30 - 16:30\n25.5.2026 13:30 - 16:30\n26.5.2026 10:00 - 12:00\n26.5.2026 13:30 - 16:30\n27.5.2026 10:00 - 16:30\n28.5.2026 10:00 - 12:00\n28.5.2026 13:30 - 16:30\n29.5.2026 10:00 - 12:00\n29.5.2026 13:30 - 16:30\n1.6.2026 13:30 - 16:30\n2.6.2026 10:00 - 12:00\n2.6.2026 13:30 - 16:30\n3.6.2026 10:00 - 16:30\n4.6.2026 10:00 - 12:00\n4.6.2026 13:30 - 16:30\n5.6.2026 10:00 - 12:00\n5.6.2026 13:30 - 16:30\n8.6.2026 13:30 - 16:30\n9.6.2026 10:00 - 12:00\n9.6.2026 13:30 - 16:30\n10.6.2026 10:00 - 16:30\n11.6.2026 10:00 - 12:00\n11.6.2026 13:30 - 16:30\n12.6.2026 10:00 - 12:00\n12.6.2026 13:30 - 16:30\n15.6.2026 13:30 - 16:30\n16.6.2026 10:00 - 12:00\n16.6.2026 13:30 - 16:30\n17.6.2026 10:00 - 16:30\n18.6.2026 10:00 - 12:00\n18.6.2026 13:30 - 16:30\n19.6.2026 10:00 - 12:00\n19.6.2026 13:30 - 16:30\n22.6.2026 13:30 - 16:30\n23.6.2026 10:00 - 12:00\n23.6.2026 13:30 - 16:30\n24.6.2026 10:00 - 16:30\n25.6.2026 10:00 - 12:00\n25.6.2026 13:30 - 16:30\n26.6.2026 10:00 - 12:00\n26.6.2026 13:30 - 16:30\n29.6.2026 13:30 - 16:30\n30.6.2026 10:00 - 12:00\n30.6.2026 13:30 - 16:30\n1.7.2026 10:00 - 16:30\n2.7.2026 10:00 - 12:00\n2.7.2026 13:30 - 16:30\n3.7.2026 10:00 - 12:00\n3.7.2026 13:30 - 16:30\n6.7.2026 13:30 - 16:30\n7.7.2026 10:00 - 12:00\n7.7.2026 13:30 - 16:30\n8.7.2026 10:00 - 16:30\n9.7.2026 10:00 - 12:00\n9.7.2026 13:30 - 16:30\n10.7.2026 10:00 - 12:00\n10.7.2026 13:30 - 16:30\n13.7.2026 13:30 - 16:30\n14.7.2026 10:00 - 12:00\n14.7.2026 13:30 - 16:30\n15.7.2026 10:00 - 16:30\n16.7.2026 10:00 - 12:00\n16.7.2026 13:30 - 16:30\n17.7.2026 10:00 - 12:00\n17.7.2026 13:30 - 16:30\n20.7.2026 13:30 - 16:30\n21.7.2026 10:00 - 12:00\n21.7.2026 13:30 - 16:30\n22.7.2026 10:00 - 16:30\n23.7.2026 10:00 - 12:00\n23.7.2026 13:30 - 16:30\n24.7.2026 10:00 - 12:00\n24.7.2026 13:30 - 16:30\n27.7.2026 13:30 - 16:30\n28.7.2026 10:00 - 12:00\n28.7.2026 13:30 - 16:30\n29.7.2026 10:00 - 16:30\n30.7.2026 10:00 - 12:00\n30.7.2026 13:30 - 16:30\n31.7.2026 10:00 - 12:00\n31.7.2026 13:30 - 16:30\n3.8.2026 13:30 - 16:30\n4.8.2026 10:00 - 12:00\n4.8.2026 13:30 - 16:30\n5.8.2026 10:00 - 16:30\n6.8.2026 10:00 - 12:00\n6.8.2026 13:30 - 16:30\n7.8.2026 10:00 - 12:00\n7.8.2026 13:30 - 16:30\n10.8.2026 13:30 - 16:30\n11.8.2026 10:00 - 12:00\n11.8.2026 13:30 - 16:30\n12.8.2026 10:00 - 16:30\n13.8.2026 10:00 - 12:00\n13.8.2026 13:30 - 16:30\n14.8.2026 10:00 - 12:00\n14.8.2026 13:30 - 16:30\n17.8.2026 13:30 - 16:30\n18.8.2026 10:00 - 12:00\n18.8.2026 13:30 - 16:30\n19.8.2026 10:00 - 16:30\n20.8.2026 10:00 - 12:00\n20.8.2026 13:30 - 16:30\n21.8.2026 10:00 - 12:00\n21.8.2026 13:30 - 16:30\n24.8.2026 13:30 - 16:30\n25.8.2026 10:00 - 12:00\n25.8.2026 13:30 - 16:30\n26.8.2026 10:00 - 16:30\n27.8.2026 10:00 - 12:00\n27.8.2026 13:30 - 16:30\n28.8.2026 10:00 - 12:00\n28.8.2026 13:30 - 16:30\n31.8.2026 13:30 - 16:30\n1.9.2026 10:00 - 12:00\n1.9.2026 13:30 - 16:30\n2.9.2026 10:00 - 16:30\n3.9.2026 10:00 - 12:00\n3.9.2026 13:30 - 16:30\n4.9.2026 10:00 - 12:00\n4.9.2026 13:30 - 16:30\n7.9.2026 13:30 - 16:30\n8.9.2026 10:00 - 12:00\n8.9.2026 13:30 - 16:30\n9.9.2026 10:00 - 16:30\n10.9.2026 10:00 - 12:00\n10.9.2026 13:30 - 16:30\n11.9.2026 10:00 - 12:00\n11.9.2026 13:30 - 16:30\n14.9.2026 13:30 - 16:30\n15.9.2026 10:00 - 12:00\n15.9.2026 13:30 - 16:30\n16.9.2026 10:00 - 16:30\n17.9.2026 10:00 - 12:00\n17.9.2026 13:30 - 16:30\n18.9.2026 10:00 - 12:00\n18.9.2026 13:30 - 16:30\n21.9.2026 13:30 - 16:30\n22.9.2026 10:00 - 12:00\n22.9.2026 13:30 - 16:30\n23.9.2026 10:00 - 16:30\n24.9.2026 10:00 - 12:00\n24.9.2026 13:30 - 16:30\n25.9.2026 10:00 - 12:00\n25.9.2026 13:30 - 16:30\n28.9.2026 13:30 - 16:30\n29.9.2026 10:00 - 12:00\n29.9.2026 13:30 - 16:30\n30.9.2026 10:00 - 16:30\n1.10.2026 10:00 - 12:00\n1.10.2026 13:30 - 16:30\n2.10.2026 10:00 - 12:00\n2.10.2026 13:30 - 16:30\n5.10.2026 13:30 - 16:30\n6.10.2026 10:00 - 12:00\n6.10.2026 13:30 - 16:30\n7.10.2026 10:00 - 16:30\n8.10.2026 10:00 - 12:00\n8.10.2026 13:30 - 16:30\n9.10.2026 10:00 - 12:00\n9.10.2026 13:30 - 16:30\n12.10.2026 13:30 - 16:30\n13.10.2026 10:00 - 12:00\n13.10.2026 13:30 - 16:30\n14.10.2026 10:00 - 16:30\n15.10.2026 10:00 - 12:00\n15.10.2026 13:30 - 16:30\n16.10.2026 10:00 - 12:00\n16.10.2026 13:30 - 16:30\n19.10.2026 13:30 - 16:30\n20.10.2026 10:00 - 12:00\n20.10.2026 13:30 - 16:30\n21.10.2026 10:00 - 16:30\n22.10.2026 10:00 - 12:00\n22.10.2026 13:30 - 16:30\n23.10.2026 10:00 - 12:00\n23.10.2026 13:30 - 16:30\n26.10.2026 13:30 - 16:30\n27.10.2026 10:00 - 12:00\n27.10.2026 13:30 - 16:30\n28.10.2026 10:00 - 16:30\n29.10.2026 10:00 - 12:00\n29.10.2026 13:30 - 16:30\n30.10.2026 10:00 - 12:00\n30.10.2026 13:30 - 16:30\n2.11.2026 13:30 - 16:30\n3.11.2026 10:00 - 12:00\n3.11.2026 13:30 - 16:30\n4.11.2026 10:00 - 16:30\n5.11.2026 10:00 - 12:00\n5.11.2026 13:30 - 16:30\n6.11.2026 10:00 - 12:00\n6.11.2026 13:30 - 16:30\n9.11.2026 13:30 - 16:30\n10.11.2026 10:00 - 12:00\n10.11.2026 13:30 - 16:30\n11.11.2026 10:00 - 16:30\n12.11.2026 10:00 - 12:00\n12.11.2026 13:30 - 16:30\n13.11.2026 10:00 - 12:00\n13.11.2026 13:30 - 16:30\n16.11.2026 13:30 - 16:30\n17.11.2026 10:00 - 12:00\n17.11.2026 13:30 - 16:30\n18.11.2026 10:00 - 16:30\n19.11.2026 10:00 - 12:00\n19.11.2026 13:30 - 16:30\n20.11.2026 10:00 - 12:00\n20.11.2026 13:30 - 16:30\n23.11.2026 13:30 - 16:30\n24.11.2026 10:00 - 12:00\n24.11.2026 13:30 - 16:30\n25.11.2026 10:00 - 16:30\n26.11.2026 10:00 - 12:00\n26.11.2026 13:30 - 16:30\n27.11.2026 10:00 - 12:00\n27.11.2026 13:30 - 16:30\n30.11.2026 13:30 - 16:30\n1.12.2026 10:00 - 12:00\n1.12.2026 13:30 - 16:30\n2.12.2026 10:00 - 16:30\n3.12.2026 10:00 - 12:00\n3.12.2026 13:30 - 16:30\n4.12.2026 10:00 - 12:00\n4.12.2026 13:30 - 16:30\n7.12.2026 13:30 - 16:30\n8.12.2026 10:00 - 12:00\n8.12.2026 13:30 - 16:30\n9.12.2026 10:00 - 16:30\n10.12.2026 10:00 - 12:00\n10.12.2026 13:30 - 16:30\n11.12.2026 10:00 - 12:00\n11.12.2026 13:30 - 16:30\n14.12.2026 13:30 - 16:30\n15.12.2026 10:00 - 12:00\n15.12.2026 13:30 - 16:30\n16.12.2026 10:00 - 16:30\n17.12.2026 10:00 - 12:00\n17.12.2026 13:30 - 16:30\n18.12.2026 10:00 - 12:00\n18.12.2026 13:30 - 16:30\n21.12.2026 13:30 - 16:30\n22.12.2026 10:00 - 12:00\n22.12.2026 13:30 - 16:30\n23.12.2026 10:00 - 16:30\n\nGarten\nWinter: 8h - 17h\nSommer: 8:00 - 21:00 Uhr\n\nBibliothek\nMontag \n13.30 - 16.30 Uhr\n\nDienstag \n10h - 12h und 13h30 - 16h30\n\nMittwoch \n10h - 16h30\n\nDonnerstag und Freitag \n10h - 12h und 13h30 - 16h30\n\nPreis\nKostenlos\n\n\nDas Angebot im Detail: https://www.guidle.com/angebote/1231031932/die_natur_tauscht_uns_nie/chambesy\nQuelle: https://www.guidle.com
SUMMARY:"Die Natur täuscht uns nie"
PRIORITY:5
X-MICROSOFT-CDO-IMPORTANCE:1
CLASS:PUBLIC
BEGIN:VALARM
TRIGGER:-P1D
ACTION:DISPLAY
DESCRIPTION:Reminder
END:VALARM
END:VEVENT
END:VCALENDAR