BEGIN:VCALENDAR
PRODID:-//Microsoft Corporation//Outlook 11.0 MIMEDIR//EN
VERSION:2.0
METHOD:PUBLISH
BEGIN:VEVENT
DTSTART:20260912T090000
DTEND:20260912T140000
LOCATION:Schule Sandbänkli, Aula Sandbänkli 3, 9220 Bischofszell
TRANSP:OPAQUE
SEQUENCE:0
UID:e31ad7fe-2696-4eda-871c-312d812a7084-0
DTSTAMP:20260912T090000
DESCRIPTION:Haben Sie defekte Gegenstände zu Hause? Möchten Sie diese lieber repariert haben statt wegzuwerfen? Wir bieten Hand dazu! In unserem Repair Café stellen Männer und Frauen ehrenamtlich ihr handwerkliches Talent zur Verfügung und hauchen defekten Gegenständen wieder neues Leben ein.\n\nEgal ob Spielzeug, Stuhl, Mixer, Lieblingsjacke etc. Die Besucher sind herzlich eingeladen, ihre defekten Gegenstände vorbei zu bringen. Von 9 bis 14 Uhr wird genäht, gebohrt, geleimt und gelötet. Die Reparaturdienstleistungen sind allesamt kostenlos - bezahlt werden müssen lediglich bei Bedarf die Ersatzteile.\n\nRepariert werden:\nElektro\nTextil\nHolz, Metall\nComputer Hardware, Multimedia (Radio, TV)\n\nDa an unseren Repair Cafés Reparateure verschiedener Berufsgruppen gleichzeitig anwesend sind, können wir auch kombinierte Reparaturen ausführen.\n\nStöbern Sie in Ihrer Küche, Kinderzimmern, Schränken nach Gegenständen, die defekt sind und bringen Sie diese einfach vorbei. Eine Anmeldung ist nicht notwendig.\n\nWeshalb machen wir das?\n\nWir wollen Ihnen die Freude an Ihrem Lieblingsstück erhalten\n\nWir wollen der Wegwerfmentalität entgegentreten und Ressourcen schonen.\n\nAlso? Tipps, Zeit und Ort haben Sie! Kommen Sie doch vorbei mit Ihrem Gegenstand. Wir freuen uns auf Ihren Besuch.\n\n\n\nSollten Sie noch eine Frage haben erreichen Sie uns am besten per Mail unter repaircafe-bischofszell@gmx.ch oder per Telefon unter 079 284 96 80.\n\nhttps://www.bischofszell.ch/vereinsliste/39757\n\nKontakt\nRepair Café Bischofszell\nThomas Sutter\nVereinspräsident\n9220 Bischofszell\n079 284 96 80\n\nVerfügbarkeit / Datum, Zeit\n12.9.2026 09:00 - 14:00\n\n\nDas Angebot im Detail: https://www.guidle.com/angebote/1231081351/repair_cafe_bischofszell/bischofszell\nQuelle: https://www.guidle.com
SUMMARY:Repair Café Bischofszell
PRIORITY:5
X-MICROSOFT-CDO-IMPORTANCE:1
CLASS:PUBLIC
BEGIN:VALARM
TRIGGER:-P1D
ACTION:DISPLAY
DESCRIPTION:Reminder
END:VALARM
END:VEVENT
END:VCALENDAR