BEGIN:VCALENDAR
PRODID:-//Microsoft Corporation//Outlook 11.0 MIMEDIR//EN
VERSION:2.0
METHOD:PUBLISH
BEGIN:VEVENT
DTSTART:20260425T100000
DTEND:20260425T130000
LOCATION:Stadtgärtnerei Schaffhausen Rheinhardstrasse 6, 8200 Schaffhausen
TRANSP:OPAQUE
SEQUENCE:0
UID:98a02e2b-edc9-4084-9355-2278c749bf28-0
DTSTAMP:20260425T100000
DESCRIPTION:Wie gestalten Sie ein Beet, das Hitze und Trockenheit trotzt und zugleich Tieren und Pflanzen Lebensraum bietet? Im Familienkurs lernen Kinder und Erwachsene robuste, klimaangepasste Arten kennen und bepflanzen gemeinsam ein zukunftsfähiges Staudenbeet.\n\nhttps://naturpark-schaffhausen.ch/de/bildung/kurse/familien.html\n\nVerfügbarkeit / Datum, Zeit\n25.4.2026 10:00 - 13:00\n\nPreis\n25 CHF pro Person, Kinder 5 CHF\n\n\nDas Angebot im Detail: https://www.guidle.com/angebote/1231186756/workshop_gemeinsam_ein_zukunftsbeet_bepflanzen/schaffhausen\nQuelle: https://www.guidle.com
SUMMARY:Workshop: Gemeinsam ein Zukunftsbeet bepflanzen 
PRIORITY:5
X-MICROSOFT-CDO-IMPORTANCE:1
CLASS:PUBLIC
BEGIN:VALARM
TRIGGER:-P1D
ACTION:DISPLAY
DESCRIPTION:Reminder
END:VALARM
END:VEVENT
END:VCALENDAR