BEGIN:VCALENDAR
PRODID:-//Microsoft Corporation//Outlook 11.0 MIMEDIR//EN
VERSION:2.0
METHOD:PUBLISH
BEGIN:VEVENT
DTSTART:20260814T183000
DTEND:20260814T213000
LOCATION:KKL Luzern, Konzertsaal Europaplatz 1, 6005 Luzern
TRANSP:OPAQUE
SEQUENCE:0
UID:b0bec9c7-0802-44f7-842f-1dab1eb80118-0
DTSTAMP:20260814T183000
DESCRIPTION:Go West! Zur Eröffnung des Festivalsommers spüren Riccardo Chailly und das Lucerne Festival Orchestra verschiedenen «American Dreams» nach. Da wäre zunächst George Gershwin, der Klassik und Jazz so genial miteinander verband, dass von E- oder U-Musik keine Rede mehr sein kann. Zu seiner schmissigen Cuban Overture, die auf Rumba-Rhythmen tanzt, inspirierte ihn ein Besuch in Havanna. In seinem grossen Concerto in F dagegen, für Chailly «das erste amerikanische Klavierkonzert», geben Charleston und Blues den Ton an. Das Finale bezeichnete Gershwin als «eine rhythmische Orgie»: genau das richtige Stück für einen Grenzgänger wie den 34-jährigen Frank Dupree mit seiner überbordenden Energie und ansteckenden Spielfreude. Der zweite Teil des Abends gehört aber Charles Ives, dem Pionier der musikalischen Freiheit, der sich keinen Regeln unterwarf. Seine Erste Sinfonie steht zwar noch in der romantischen Tradition, doch steuert sie mit ihrem ungebrochenen Optimismus zugleich eine uramerikanische Note bei. Vor allem: Ihr munterer Mix aus schwelgerischen Melodien, wilden Ausbrüchen, berührendem Gospelsound und peppigen Marschrhythmen bietet einfach beste Unterhaltung!\n\nMitwirkende:\nLucerne Festival Orchestra\nRiccardo Chailly, Dirigent\nFrank Dupree, Klavier\nSolist*innen des Lucerne Festival Orchestra und des Lucerne Festival Contemporary Orchestra (LFCO)\n\nProgramm:\nSteve Reich (*1936)\nNew York Counterpoint. Fassung für elf Klarinetten\n\nBegrüssung\nMarkus Hongler Stiftungsratspräsident\nSebastian Nordmann Intendant\n\nGrusswort\nGuy Parmelin Bundespräsident\n\nGeorge Gershwin (1898–1937)\nCuban Overture\nConcerto in F für Klavier und Orchester\n\nCharles Ives (1874–1954)\nSinfonie Nr. 1 d-Moll\n\nPause um ca. 20.10 Uhr\n\nhttps://www.lucernefestival.ch/de/programm/lucerne-festival-orchestra-riccardo-chailly-frank-dupree-solistinnen-des-lucerne-festival-orchestra-und-des-lucerne-festival-contemporary-orchestra-lfco/2346\n\nKontakt\nLucerne Festival\nHirschmattstrasse 13 \n6003 Luzern\n+41 (0)41 226 44 00\n+41 (0)41 226 44 60\n\nVerfügbarkeit / Datum, Zeit\n14.8.2026 18:30 - 21:30\n\nPreis\nCHF 320.00 | 270.00 | 220.00 | 150.00 | 80.00 | 40.00\n\nVorverkauf\nKarten ab 24.03.2026 | 10.00 Uhr (MEZ)\nhttps://shop.lucernefestival.ch/selection/event/date?productId=10229545536817&lang=de\n\n\nDas Angebot im Detail: https://www.guidle.com/angebote/1231429124/summer-festival_lucerne_festival_orchestra_1_-_eroffnung/luzern\nQuelle: https://www.guidle.com
SUMMARY:Summer-Festival: Lucerne Festival Orchestra 1 - Eröffnung
PRIORITY:5
X-MICROSOFT-CDO-IMPORTANCE:1
CLASS:PUBLIC
BEGIN:VALARM
TRIGGER:-P1D
ACTION:DISPLAY
DESCRIPTION:Reminder
END:VALARM
END:VEVENT
END:VCALENDAR