BEGIN:VCALENDAR
PRODID:-//Microsoft Corporation//Outlook 11.0 MIMEDIR//EN
VERSION:2.0
METHOD:PUBLISH
BEGIN:VEVENT
DTSTART:20261122T190000
LOCATION:Theater Fauteuil Spalenberg 12, 4051 Basel
TRANSP:OPAQUE
SEQUENCE:0
UID:5d238291-9d3a-470b-aa43-9478f241ea3e-0
DTSTAMP:20261122T190000
DESCRIPTION:Deutschland 2026. Die Bahn ist marode, die Brücken sind kaputt und der Fachkräftemangel ist bis in die neue Regierung vorgedrungen. Und dann wollen auch noch immer alle Recht haben: Links, Rechts, Mitte, Oben, Unten. Dabei sollte doch mittlerweile längst klar sein: Es hat nur einer Recht – Richard David Precht. Sagt Richard David Precht.\n\nEin Blackrocker ist Kanzler, ein Vollidiot amerikanischer Präsident und ein Amerikaner Papst. Und das, obwohl Markus Söder für alle drei Jobs zur Verfügung stand.\n\nUnd weil die Welt nicht schon irre genug ist, nehmen wir Sie jetzt mit auf einen schrägen Roadtrip durch ein noch schrägeres Land. Dabei völlig unüblich: Wir fahren pünktlich los, kommen ohne Verspätung an und dazwischen liegen für Sie 100 komplett staufreie Minuten Kabarett. Jenseits von Germany – eine rasante Reise durch die Themen unserer Zeit.\n\nhttps://www.fauteuil.ch\n\nKontakt\nTheater Fauteuil\nSpalenberg 12\n4051 Basel\n+41 61 261 26 10\n\nVerfügbarkeit / Datum, Zeit\n22.11.2026 19:00 - \n\nPreis\nCHF 44.00 / 54.00 / 64.00\n\nVorverkauf\nVorverkauf ab 3.3.26 (Fauteuil-Webshop 09:00/Theaterkasse 15:00)\n\nTheaterkasse am Spalenberg 12, Telefon 061 261 26 10\nhttps://www.fauteuil.ch/spielplan/stadt-land-sockenschuss/\n\n\nDas Angebot im Detail: https://www.guidle.com/angebote/1231465931/die_distel_berlin_-_stadt_land_sockenschuss/basel\nQuelle: https://www.guidle.com
SUMMARY:Die Distel Berlin - Stadt Land Sockenschuss
PRIORITY:5
X-MICROSOFT-CDO-IMPORTANCE:1
CLASS:PUBLIC
BEGIN:VALARM
TRIGGER:-P1D
ACTION:DISPLAY
DESCRIPTION:Reminder
END:VALARM
END:VEVENT
END:VCALENDAR