BEGIN:VCALENDAR
PRODID:-//Microsoft Corporation//Outlook 11.0 MIMEDIR//EN
VERSION:2.0
METHOD:PUBLISH
BEGIN:VEVENT
DTSTART:20260826T203000
DTEND:20260826T214500
LOCATION:Seeburgpark Kreuzlingen Seestrasse 49, 8280 Kreuzlingen
TRANSP:OPAQUE
SEQUENCE:0
UID:170082aa-3100-4957-ae50-7a219641b287-0
DTSTAMP:20260826T203000
DESCRIPTION:SAMAR – Tanztheater im Seeburgpark Kreuzlingen\n\nMit der Produktion SAMAR erkundet Rigolo die Zwischenwelten – den Bereich zwischen Traum und Wirklichkeit, zwischen dem Bekannten und dem Unbekannten. Vier Künstlerinnen bewegen sich zwischen Himmel und Erde, stets balancierend und suchend. Ihre getanzte Reise erzählt von der Sehnsucht, diese schwer fassbare Dimension zu verstehen.\n\nAm Standort Seeburgpark, direkt am See, erwartet das Publikum ein besonderes Erlebnis: Rigolo Tanztheater und die Musikschule Kreuzlingen gestalten gemeinsam eine atmosphärische Einstimmung auf das Stück SAMAR. Bereits 90 Minuten vor Vorstellungsbeginn können sich die Besucher:innen im Cateringbereich kulinarisch verpflegen lassen und die besondere Abendstimmung am See geniessen. Währenddessen setzen Schülerinnen der Musikschule Kreuzlingen im Aussenraum mit poetischen tänzerischen Akzenten erste szenische Impulse und eröffnen eine leise Vorahnung der Welt von SAMAR.\n\nWenn sich das Publikum anschliessend im Zelt versammelt, führen die Schülerinnen diese Einstimmung weiter: Mit Bewegung und Präsenz öffnen sie den Raum zur Zwischenwelt des Stücks und leiten fliessend zur anschliessenden Aufführung über.\n\nDas spartenübergreifende Stück vereint zeitgenössischen Tanz, Luftakrobatik und schauspielerische Elemente. In schwebenden Seilinstallationen erforschen die Performerinnen die Welt des Dazwischen-Seins. Transparente Stoffe, Lichtinstallationen und eigens komponierte Musik schaffen eine atmosphärisch dichte, visuelle Poesie.\n\nNach Erfolgen wie „Flügel im Park“ und SOSPIRI im Weiden-Palais im Seeburgpark knüpft Rigolo an seine Tradition an, Kunst, Natur und Gemeinschaft miteinander zu verbinden – und lädt dazu ein, in eine Welt einzutauchen, in der die Grenzen zwischen Traum und Realität verschwimmen.\n\nWeitere Informationen: rigolo.ch\n\n\nMitwirkende SAMAR\n\nKonzept / künstlerische Leitung: Marula Eugster\nProduktionsleitung: Nuria Astorga Eugster\nPerformance: Nadika Mohn, Anna Zurkirchen, Chiara Fersini, Elena Patracca\nChoreografie: Naomi Schwarz, Marula Eugster in Zusammenarbeit mit den Artisten\nAreal Coaching: Silvia Vrskova\nKostüme: Oxana Starosvit, Marula Eugster\nLichtdesign: Philip Dickmann\nSzenografie / Konstruktion: Philip Dickmann\nMusik: Alexandre Dai Castaing, Epi\nUnterstützer/Helfer: Lena Roth, Andreas Meyer, Albert brunner, Erwin Hutter, Heidi Heine\n\n\nhttps://www.rigolo.ch/samar\n\nKontakt\nRigolo Tanztheater\nWilerstrasse 84\n9630 Wattwil\n0794881645\n\nVerfügbarkeit / Datum, Zeit\n26.8.2026 20:30 - 21:45\n27.8.2026 20:30 - 21:45\n28.8.2026 20:30 - 21:45\n29.8.2026 20:30 - 21:45\n30.8.2026 18:30 - 19:45\n\nPreis\nErwachsene, Sitzplätze: CHF 43.-\nKinder bis 16 Jahre, Sitzplätze: CHF 21.-\nStudierende, Sitzplätze: CHF 30.-\n\nVorverkauf\nhttps://www.eventfrog.ch/samar-kreuzlingen\n\n\nDas Angebot im Detail: https://www.guidle.com/angebote/1231522100/samar_by_rigolo_-_zwischen_welt_seeburgpark_kreuzlingen/kreuzlingen\nQuelle: https://www.guidle.com
SUMMARY:SAMAR BY RIGOLO - zwischen welt, Seeburgpark Kreuzlingen
PRIORITY:5
X-MICROSOFT-CDO-IMPORTANCE:1
CLASS:PUBLIC
BEGIN:VALARM
TRIGGER:-P1D
ACTION:DISPLAY
DESCRIPTION:Reminder
END:VALARM
END:VEVENT
END:VCALENDAR