BEGIN:VCALENDAR
PRODID:-//Microsoft Corporation//Outlook 11.0 MIMEDIR//EN
VERSION:2.0
METHOD:PUBLISH
BEGIN:VEVENT
DTSTART:20261022T200000
LOCATION:Kursaal Bern, Arena Kornhausstrasse 3, 3013 Bern
TRANSP:OPAQUE
SEQUENCE:0
UID:51b82b33-8a4e-4674-979c-fff9fb60c1e1-0
DTSTAMP:20261022T200000
DESCRIPTION:Der preisgekrönte Ostschweizer Stand-Up-Comedian öffnet mit seinem zweiten Solo-Programm "Die verbotene Frucht" die Tür zu einer Welt, die perfekt erscheint. Fabio Landert malt ein Bild von einem Paradies, in dem alle Fehler vergeben sind. Doch inmitten dieser makellosen Welt fehlt etwas Wesentliches: Humor und Spaß. Obwohl man glaubt, frei zu sein, fühlt man sich immer, als würde man etwas falsch machen. Landert verführt das Publikum dazu, die verbotene Frucht zu probieren. Mit seinem eigenen, authentischen und trockenen Stil entführt er die Gäste in eine Welt ohne Tabus, in der jeder über alles lachen kann. Hier ist das Publikum Sünderin und Sünder, fernab von Spiessbürgertum und vermeintlicher Perfektion.\nSeine Geschichten sind nicht nur humorvoll, sondern auch modern und durchdacht. Es wird Zeit, der Schweiz zu zeigen, wie locker Stand-Up-Comedy sein kann. Sind Sie bereit, sich fallen zu lassen und die verbotene Frucht zu kosten?\n\nMitwirkende: \nFabio Landert\n\nKontakt\nTicketcorner\n0900 800 800 (CHF 1.19/min.)\n\nVerfügbarkeit / Datum, Zeit\n22.10.2026 20:00 - \n\nPreis\n1. Kategorie: 68,70 CHF\n2. Kategorie: 61,50 CHF\n3. Kategorie: 54,20 CHF\n4. Kategorie: 46,90 CHF\n5. Kategorie: 39,80 CHF\n\nVorverkauf\nhttps://www.ticketcorner.ch/artist/fabio-landert/fabio-landert-3633948/?affiliate=GUI&utm_source=GUI&utm_medium=dp&utm_campaign=guidle\n\n\nDas Angebot im Detail: https://www.guidle.com/angebote/1231923369/fabio_landert_-_die_verbotene_frucht_-_zusatzshow/bern\nQuelle: https://www.guidle.com
SUMMARY:Fabio Landert - Die verbotene Frucht - (Zusatzshow)
PRIORITY:5
X-MICROSOFT-CDO-IMPORTANCE:1
CLASS:PUBLIC
BEGIN:VALARM
TRIGGER:-P1D
ACTION:DISPLAY
DESCRIPTION:Reminder
END:VALARM
END:VEVENT
END:VCALENDAR