BEGIN:VCALENDAR
PRODID:-//Microsoft Corporation//Outlook 11.0 MIMEDIR//EN
VERSION:2.0
METHOD:PUBLISH
BEGIN:VEVENT
DTSTART:20260522T190000
LOCATION:Kirche St. Peter St. Peterhofstatt 6, 8001 Zürich
TRANSP:OPAQUE
SEQUENCE:0
UID:9148789d-e690-44f1-8c5d-d127e35c2ba1-0
DTSTAMP:20260522T190000
DESCRIPTION:Johann Sebastian Bachs ausdrucksstarke Solo- und Dialogkantaten zählen zu den Glanzstücken seines kirchenmusikalischen Schaffens. Die fein instrumentierten Werke dieses Programms, vertont nach Texten des Darmstädter Hofbibliothekars Georg Christian Lehms, kreisen um Trost und Hoffnung inmitten von Leid und innerer Prüfung.\n \nDie Soprankantate «Mein Herze schwimmt im Blut» BWV 199 nimmt das Publikum mit auf eine berührende Reise durch menschliche Gefühlswelten, geprägt vom Leiden an der eigenen Unvollkommenheit und von der Suche nach einem gnädigen Gott. Auch die Kantate «Selig ist der Mann, der die Anfechtung duldet» BWV 57, ein Herzensgespräch zwischen der gläubigen Seele und dem tröstenden Heiland, folgt den Stufen innerer Erkenntnis und aufrichtiger Selbstannahme.\n \nErgänzt wird das Programm durch die neue Basskantate «Willkommen, wertes Heil», die auf Arien Johann Sebastian Bachs aus den Kantaten BWV 36, 66 und 73 basiert. Neue Rezitative des Librettisten Anselm Hartinger und des Komponisten Rudolf Lutz verbinden die Arien zu einem stimmigen dramaturgischen Bogen, der sich an der biblischen Figur des seligen Simeon und den Lesungen des Festes Maria Reinigung orientiert. Angelehnt an Bachs Parodieverfahren entsteht so ein Werk, das den Geist Bachs lebendig weiterführt und dessen seltene Bass-Solokantaten um einen klangschönen und tiefgründigen zeitgenössischen Beitrag bereichert.\n\nProgramm\nJohann Sebastian Bach: BWV 199 «Mein Herze schwimmt im Blut» und BWV 57 «Selig ist der Mann»\nJohann Sebastian Bach und Rudolf Lutz: «Willkommen, wertes Heil»: Kantate für Bass und Orchester mit Arien aus den Bach-Kantaten BWV 36, 66 und 73. Textergänzungen und Rezitative von Anselm Hartinger (Libretto) und Rudolf Lutz (Musik). CH-Erstaufführung.\n\nSolistin & Solist\nJulia Doyle, Sopran\nMatthias Helm, Bass\n\nKammerensemble der J. S. Bach-Stiftung, St. Gallen\nLeitung & Cembalo: Rudolf Lutz\n\nhttps://www.bachstiftung.ch\n\nKontakt\nJ. S. Bach-Stiftung\nJ. S. Bach-Stiftung\nMuseumstrasse 1\n9004 St. Gallen\n0712421661\n\nVerfügbarkeit / Datum, Zeit\n22.5.2026 19:00 - \n\nÖffnung Kasse: 18.00 Uhr\nSaaleinlass: 18.45 Uhr\n\nPreis\nCHF 15.00 bis CHF 60.00\n\nVorverkauf\nhttps://442hz.com/de/ensembles/JSBS-StGallen/shop/event/171866/#event\n\n\nDas Angebot im Detail: https://www.guidle.com/angebote/1231944420/seelentrost_solo-__dialogkantaten_von_j_s_bach/zurich\nQuelle: https://www.guidle.com
SUMMARY:Seelentrost: Solo- & Dialogkantaten von J. S. Bach
PRIORITY:5
X-MICROSOFT-CDO-IMPORTANCE:1
CLASS:PUBLIC
BEGIN:VALARM
TRIGGER:-P1D
ACTION:DISPLAY
DESCRIPTION:Reminder
END:VALARM
END:VEVENT
END:VCALENDAR