BEGIN:VCALENDAR
PRODID:-//Microsoft Corporation//Outlook 11.0 MIMEDIR//EN
VERSION:2.0
METHOD:PUBLISH
BEGIN:VEVENT
DTSTART:20260430
LOCATION:Digicomp Academy AG Bubenbergplatz 11, 3011 Bern
TRANSP:OPAQUE
SEQUENCE:0
UID:b9faf7a4-772b-4a54-b8a5-0485fabf70a4-0
DTSTAMP:20260430T120000
DESCRIPTION:Die Einbindung von maschinellem Lernen in Datenpipelines verbessert die Möglichkeit, Erkenntnisse aus Daten zu gewinnen. In diesem Kurs wird erläutert, wie maschinelles Lernen in Daten-Pipelines auf Google Cloud integriert werden kann.\n\nVoraussetzung\nTeilnehmende sollten den Kurs  absolviert haben oder über gleichwertige Erfahrungen verfügen.\n\nZielgruppe\nData Engineers\n\nQuelle: www.weiterbildung.swiss\n\nhttp://www.digicomp.ch\n\nKontakt\nDigicomp Academy AG\nLimmatstrasse 50\n8005 Zürich\n+41 44 447 21 21\n+41 44 447 21 31\n\nVerfügbarkeit / Datum, Zeit\n30.4.2026 \n\nPreis\nTeilnahmegebühr: CHF 800\n\n\nDas Angebot im Detail: https://www.guidle.com/angebote/1232906119/smart_analytics_machine_learning_and_ai_on_google_cloud/bern\nQuelle: https://www.guidle.com
SUMMARY:Smart Analytics, Machine Learning, and AI on Google Cloud
PRIORITY:5
X-MICROSOFT-CDO-IMPORTANCE:1
CLASS:PUBLIC
BEGIN:VALARM
TRIGGER:-P1D
ACTION:DISPLAY
DESCRIPTION:Reminder
END:VALARM
END:VEVENT
END:VCALENDAR