BEGIN:VCALENDAR
PRODID:-//Microsoft Corporation//Outlook 11.0 MIMEDIR//EN
VERSION:2.0
METHOD:PUBLISH
BEGIN:VEVENT
DTSTART:20260713T080000
DTEND:20260714T170000
LOCATION:Arbor AG Lindentalstrasse 112, 3067 Boll
TRANSP:OPAQUE
RRULE:FREQ=WEEKLY;INTERVAL=1;UNTIL=20260714T170000;WKST=MO;BYDAY=MO,TU
UID:dcb57dd0-5fd0-49af-93f6-41c228bec117-0
DTSTAMP:20260713T080000
DESCRIPTION:-Technische Kenntnisse von Staplern der Kategorien R1 und R4 (starr und drehbar)-Herstellervorschriften und Unfallverhütung-Abstützen eines Staplers der Kategorie R4 im Gelände-Lesen von Tragkraftdiagrammen und Wirkungsweise der Lastmomentbegrenzung-Vorschriften im Werk- und Strassenverkehr-Korrektes Ein- und Auslagern von LastenInhalt-Technische Kenntnisse von Staplern der Kategorien R1 und R4 (starr und drehbar)-Herstellervorschriften und Unfallverhütung-Abstützen eines Staplers der Kategorie R4 im Gelände-Lesen von Tragkraftdiagrammen und Wirkungsweise der Lastmomentbegrenzung-Vorschriften im Werk- und Strassenverkehr-Korrektes Ein- und Auslagern von LastenVoraussetzung-Kenntnis der deutschen Sprache in Wort und Schrift-Gute Auffassungsgabe und technisches Verständnis-Mindestalter 18 Jahre-Erfahrung im Umgang mit mobilen Arbeitsmaschinen. Es sind dies erfahrene Berufsleute, wie Bediener von Baumaschinen, Mobil-Kranführer (Kategorie A gemäss Kranverordnung), Lastwagenfahrer und Maschinisten (Landwirtschaft) oder Bediener von Flurförderzeugen ohne Ausbildungsbestätigung.Lernziele\n-Die Ausbildung wird mit einer theoretischen und einer praktischen Prüfung abgeschlossen.-Die Teilnahmer erhalten einen SUVA-auditierten Staplerfahrer-Ausbildungsnachweis.-Für Chauffeure kann 1 Tag als CZV-Weiterbildung angerechnet werden (die CZV-Nummer muss bei der Anmeldung angegeben werden).\n\nZielgruppePersonen, die Stapler bedienen müssen und bereits über Erfahrung als Traktorfahrer, Baumaschinenführer oder Lastwagenfahrer verfügen.BemerkungVUV Art. 6, Instruktion und AnleitungDer Arbeitgeber sorgt dafür, dass alle Arbeitnehmer über die Gefahren und die zu treffenden Massnahmen zur Verhütung von Unfällen angeleitet werden.VUV Art. 8 und EKAS Richtlinie 6518Das Führen eines Gabelstaplers gilt als Arbeit mit besonderen Gefahren und darf nur durch Personen ausgeführt werden, die dafür entsprechend ausgebildet sind.Quelle: www.weiterbildung.swiss\n\nhttps://www.boss-schulungen.ch/angebot-kurse/stapler/kurse/gegengewichtsstapler-teleskopstapler-ohne-seilwinde-2-tage/\n\nKontakt\nBoss Schulungen GmbH\nAllmendstrasse 46\n3600 Thun\n033 521 11 00\n033 521 11 01\n\nVerfügbarkeit / Datum, Zeit\n13.7.2026 - 14.7.2026 08:00 - 17:00 Mo, Di\n\nPreis\nTeilnahmegebühr: CHF 910\n\n\nDas Angebot im Detail: https://www.guidle.com/angebote/1232912999/gegengewichtsstapler_r1_und_teleskopstapler_r4_ohne_seilwinde_2_tage/boll\nQuelle: https://www.guidle.com
SUMMARY:Gegengewichtsstapler R1 und Teleskopstapler R4 ohne Seilwinde (2 Tage)
PRIORITY:5
X-MICROSOFT-CDO-IMPORTANCE:1
CLASS:PUBLIC
BEGIN:VALARM
TRIGGER:-P1D
ACTION:DISPLAY
DESCRIPTION:Reminder
END:VALARM
END:VEVENT
END:VCALENDAR