BEGIN:VCALENDAR
PRODID:-//Microsoft Corporation//Outlook 11.0 MIMEDIR//EN
VERSION:2.0
METHOD:PUBLISH
BEGIN:VEVENT
DTSTART:20270825T160000
DTEND:20270825T210000
LOCATION:Feusi Bildungszentrum Max-Daetwyler-Platz 1, 3014 Bern
TRANSP:OPAQUE
SEQUENCE:0
UID:b6e27dbe-068e-40f5-abea-e20cc768f716-0
DTSTAMP:20270825T160000
DESCRIPTION:Von der Planung bis zur Umsetzung: Mit dem dipl. Projektmanager/-in NDS HF entwickeln Sie die Fähigkeiten, Projekte erfolgreich zu steuern und zu leiten. Lernen Sie praxisnah und machen Sie Ihren nächsten Karriereschritt.\n\nVoraussetzung\n-Eidg. Fachausweis (Berufsprüfung)\n-Eidg. Diplom (höhere Fachprüfung)\n-Diplom einer höheren Fachschule\n-Fachhochschulabschluss oder Hochschulabschluss\n\nFalls Sie über einen vergleichbaren Bildungsabschluss auf Tertiärstufe sowie qualifizierte Berufspraxis verfügen, prüft die Lehrgangsleitung eine mögliche Sur-Dossier-Zulassung.\n\nLernziele\nIm Lehrgang dipl. Projektmanager/-in NDS HF eignen Sie sich die Fähigkeiten an, ein Projekt unter Einhaltung der Termine und des Budgets erfolgreich abzuschliessen sowie ein Team kompetent zu führen.\n\ndipl. Projektmanager NDS HF/ dipl. Projektmanagerin NDS HF\n\nZielgruppe\nDie Weiterbildung richtet sich an erfahrene Fach- und Führungskräfte, die ihre Kompetenzen im operativen und strategischen Projektmanagement vertiefen und komplexe Projekte in verschiedenen Branchen erfolgreich steuern möchten.\n\nBemerkung\nParallel oder im Anschluss an den Lehrgang besteht die exklusive Möglichkeit, ein CAS in General Management zu absolvieren. <a href="https://www.phw.ch/cas-lehrgange">Informieren Sie sich</a>.\n\n\n\nQuelle: www.weiterbildung.swiss\n\nhttps://www.feusi.ch/dipl-projektmanager-projektmanagerin-nds-hf\n\nKontakt\nFeusi Bildungszentrum\nMax-Daetwyler-Platz 1\n3014 Bern\n+41 31 537 37 37\n+41 31 537 37 38\n\nVerfügbarkeit / Datum, Zeit\n25.8.2027 16:00 - 21:00\n\nPreis\nTeilnahmegebühr: CHF 11400\n\n\nDas Angebot im Detail: https://www.guidle.com/angebote/1232921321/dipl_projektmanager_nds_hf__dipl_projektmanagerin_nds_hf/bern\nQuelle: https://www.guidle.com
SUMMARY:dipl. Projektmanager NDS HF / dipl. Projektmanagerin NDS HF
PRIORITY:5
X-MICROSOFT-CDO-IMPORTANCE:1
CLASS:PUBLIC
BEGIN:VALARM
TRIGGER:-P1D
ACTION:DISPLAY
DESCRIPTION:Reminder
END:VALARM
END:VEVENT
END:VCALENDAR