BEGIN:VCALENDAR
PRODID:-//Microsoft Corporation//Outlook 11.0 MIMEDIR//EN
VERSION:2.0
METHOD:PUBLISH
BEGIN:VEVENT
DTSTART:20270830T080000
DTEND:20270830T170000
LOCATION:Feusi Bildungszentrum Max-Daetwyler-Platz 1, 3014 Bern
TRANSP:OPAQUE
SEQUENCE:0
UID:f1d94c15-cfef-445e-a28b-5b32784f659b-0
DTSTAMP:20270830T080000
DESCRIPTION:Verbindet Ihre Grundausbildung im gesundheitlichen oder sozialen Bereich mit einer erweiterten Allgemeinbildung.\n\nInhalt\nPersonen, die über ein EFZ (eidg. Fähigkeitszeugnis) oder einen äquivalenten Berufsabschluss verfügen.\n\nVoraussetzung\n-Abgeschlossene Berufslehre\n-Standortbestimmung\n\nLernziele\nErmöglicht den Zugang zu Fachhochschulen (FH) und höheren Fachschulen (HF) und erleichtert die Weiterbildung beziehungsweise eine berufliche Neuorientierung.\n\nKantonale eidgenössisch anerkannte Maturität\n\nZielgruppe\nPersonen, die über ein EFZ (eidg. Fähigkeitszeugnis) oder einen äquivalenten Berufsabschluss verfügen.\n\nBemerkung\nDie Vollzeitausbildung dauert 1 Jahr und startet im August.\n\nDie Teilzeitausbildung dauert 1,5 Jahre und startet im Februar.\n\nQuelle: www.weiterbildung.swiss\n\nhttps://www.feusi.ch/maturitaetsschulen/berufsmaturitaet/gesundheit-und-soziales/\n\nKontakt\nFeusi Bildungszentrum\nMax-Daetwyler-Platz 1\n3014 Bern\n+41 31 537 37 37\n+41 31 537 37 38\n\nVerfügbarkeit / Datum, Zeit\n30.8.2027 08:00 - 17:00\n\nPreis\nTeilnahmegebühr: CHF 14160\n\n\nDas Angebot im Detail: https://www.guidle.com/angebote/1232929490/berufsmaturitat_gesundheit_und_soziales_bm_geso/bern\nQuelle: https://www.guidle.com
SUMMARY:Berufsmaturität Gesundheit und Soziales (BM GESO)
PRIORITY:5
X-MICROSOFT-CDO-IMPORTANCE:1
CLASS:PUBLIC
BEGIN:VALARM
TRIGGER:-P1D
ACTION:DISPLAY
DESCRIPTION:Reminder
END:VALARM
END:VEVENT
END:VCALENDAR