BEGIN:VCALENDAR
PRODID:-//Microsoft Corporation//Outlook 11.0 MIMEDIR//EN
VERSION:2.0
METHOD:PUBLISH
BEGIN:VEVENT
DTSTART:20261221
LOCATION:Digicomp Academy AG Bubenbergplatz 11, 3011 Bern
TRANSP:OPAQUE
RRULE:FREQ=WEEKLY;INTERVAL=1;UNTIL=20261222;WKST=MO;BYDAY=MO,TU
UID:058d462a-872e-4a1c-8fd8-9b506e465b2a-0
DTSTAMP:20261221T120000
DESCRIPTION:Lerne, Exploits wirklich zu verstehen &amp; selbst zu entwickeln: In intensiven Hands-on-Labs analysierst du Schwachstellen, baust eigene Exploits, umgehst Schutzmechanismen wie DEP/ASLR &amp; bewertest reale Angriffsmuster - entscheidend für wirksame Defense.\n\nVoraussetzung\nBesuch des Kurses unten oder gleichwertige breite praktische Hacking-Erfahrungen mit KALI LINUX? gemäss dem Kurs:\n\nZielgruppe\nDieser Kurs richtet sich an Security-Fachleute, Informatiker und Führungskräfte, die den Kurs «<a href="https://digicomp.ch/d/HAK2">Cyber Security Tester - Hands-on Professional (HAK2)</a>» besucht haben und ihr bisher erworbenes Wissen und die analytischen Fähigkeiten in einem Hands-on-Training mit diversen Exploiting-Techniken vertiefen möchten.\n\nQuelle: www.weiterbildung.swiss\n\nhttp://www.digicomp.ch\n\nKontakt\nDigicomp Academy AG\nLimmatstrasse 50\n8005 Zürich\n+41 44 447 21 21\n+41 44 447 21 31\n\nVerfügbarkeit / Datum, Zeit\n21.12.2026 - 22.12.2026  Mo, Di\n\nPreis\nTeilnahmegebühr: CHF 1900\n\n\nDas Angebot im Detail: https://www.guidle.com/angebote/1232945734/cyber_security_testeranalyst_-_hands-on_exploiting/bern\nQuelle: https://www.guidle.com
SUMMARY:Cyber Security Tester/Analyst - Hands-On Exploiting
PRIORITY:5
X-MICROSOFT-CDO-IMPORTANCE:1
CLASS:PUBLIC
BEGIN:VALARM
TRIGGER:-P1D
ACTION:DISPLAY
DESCRIPTION:Reminder
END:VALARM
END:VEVENT
END:VCALENDAR