BEGIN:VCALENDAR
PRODID:-//Microsoft Corporation//Outlook 11.0 MIMEDIR//EN
VERSION:2.0
METHOD:PUBLISH
BEGIN:VEVENT
DTSTART:20260917
LOCATION:Digicomp Academy AG Limmatstrasse 50, 8005 Zürich
TRANSP:OPAQUE
RRULE:FREQ=WEEKLY;INTERVAL=1;UNTIL=20260918;WKST=MO;BYDAY=TH,FR
UID:1a91bba5-b440-44e8-b8c7-96a7f8e46103-0
DTSTAMP:20260917T120000
DESCRIPTION:Lerne als Scrum Master, wie du die Umgebung von Scrum-Teams nachhaltig veränderst und die Bedingungen für Agilität schaffst. Die Zertifizierung zum «Professional Scrum Master? II (PSM II)» kannst du nach dem Seminar ablegen.\n\nVoraussetzung\nErweiterte Scrum-Kenntnisse und umfassende Scrum-Erfahrung sind notwendig. Wir empfehlen den vorherigen Besuch des folgenden Kurses:\n\nZielgruppe\nDas ist ein fortgeschrittener Kurs, speziell für erfahrene Scrum Master mit mindestens einem Jahr praktischer Erfahrung. Du willst dein Wissen und deine Fähigkeiten erweitern und einen Schritt weiterkommen.<a href="https://www.digicomp.ch/media/misc/2018/Flyer/WelcherScrumKursistderRichtige.pdf">Welcher Scrum Kurs ist der Richtige für mich? (PDF)</a>\n\nQuelle: www.weiterbildung.swiss\n\nhttp://www.digicomp.ch\n\nKontakt\nDigicomp Academy AG\nLimmatstrasse 50\n8005 Zürich\n+41 44 447 21 21\n+41 44 447 21 31\n\nVerfügbarkeit / Datum, Zeit\n17.9.2026 - 18.9.2026  Do, Fr\n\nPreis\nTeilnahmegebühr: CHF 2600\n\n\nDas Angebot im Detail: https://www.guidle.com/angebote/1232967588/professional_scrum_master_advanced_psm_ii/zurich\nQuelle: https://www.guidle.com
SUMMARY:Professional Scrum Master? Advanced (PSM II)
PRIORITY:5
X-MICROSOFT-CDO-IMPORTANCE:1
CLASS:PUBLIC
BEGIN:VALARM
TRIGGER:-P1D
ACTION:DISPLAY
DESCRIPTION:Reminder
END:VALARM
END:VEVENT
END:VCALENDAR