BEGIN:VCALENDAR
PRODID:-//Microsoft Corporation//Outlook 11.0 MIMEDIR//EN
VERSION:2.0
METHOD:PUBLISH
BEGIN:VEVENT
DTSTART:20270907
LOCATION:IBAW Martigny Rue des Avouillons 1, 1920 Martigny
TRANSP:OPAQUE
RRULE:FREQ=WEEKLY;INTERVAL=1;UNTIL=20271005;WKST=MO;BYDAY=MO,TU,WE,TH,FR,SA,SU
UID:a87cbeb4-5a90-4ad5-8202-32ce12482683-0
DTSTAMP:20270907T120000
DESCRIPTION:Vous utilisez les documents publiés sur le portail fide pour la planification de votre enseignement et l'évaluation du processus d'apprentissage des participants. Vous planifiez des leçons axées sur les besoins et les actes du quotidien à partir de scénarios. Ce faisant, vous permettez l'instauration d'un processus d'apprentissage impliquant une participation active des apprenants.\n\nInhalt\n-Principes didactiques de fide, en particulier le lien avec la vie quotidienne, l'orientation sur les besoins et le processus participatif d'apprentissage-Ressources et matériel du système fide proposés sur le site Internet-Didactique basée sur des scénarios-Outils pour cerner les besoins en matière d'apprentissage-Formes de différenciation interne-Approche basée sur la constitution d'un portfolio-Différents modes et formes d'évaluation (autoévaluation, évaluation par les pairs et par des tiers, évaluation basée sur des critères ou des indicateurs, etc.)\n\nVoraussetzung\n-Compétences et expérience dans le domaine de la formation des adultes (p. ex. certificat FSEA)-Etre de langue maternelle française ou avoir acquis le niveau C1 du Cadre européen commun de référence-Compréhension de la langue locale courante\n\nLernziele\nVous êtes capables d'appliquer dans vos cours l'approche didactique proposée par fide et de faire montre de l'attitude pédagogique qu'elle implique.\n\nZielgruppe\n-Institutions/organisations proposant des cours de langues aux migrantes et migrants, et devant disposer d'enseignants qualifiés-Titulaires du certificat FSEA ou personnes au bénéfice d'une formation équivalente dans le domaine de la formation des adultes se trouvant face à la nécessité d'acquérir des qualifications supplémentaires reconnues pour enseigner les langues à des migrantes et migrants-Formatrices et formateurs en langues étrangères et secondes auxquels la formation modularisée est utile pour leur formation continue\n\nQuelle: www.weiterbildung.swiss\n\nhttp://www.ibaw.ch\n\nKontakt\nMiduca AG\nIBAW - Institut de formations professionnelles et continues\nVulkanplatz 8\n8048 Zürich\n+41 41 229 67 00\n\nVerfügbarkeit / Datum, Zeit\n7.9.2027 - 5.10.2027 \n\nPreis\nTeilnahmegebühr: CHF 850\n\n\nDas Angebot im Detail: https://www.guidle.com/angebote/1232980698/fideszenariobasierter_unterricht_nach_den_fide-prinzipien/martigny\nQuelle: https://www.guidle.com
SUMMARY:fide_Szenariobasierter Unterricht nach den fide-Prinzipien
PRIORITY:5
X-MICROSOFT-CDO-IMPORTANCE:1
CLASS:PUBLIC
BEGIN:VALARM
TRIGGER:-P1D
ACTION:DISPLAY
DESCRIPTION:Reminder
END:VALARM
END:VEVENT
END:VCALENDAR