BEGIN:VCALENDAR
PRODID:-//Microsoft Corporation//Outlook 11.0 MIMEDIR//EN
VERSION:2.0
METHOD:PUBLISH
BEGIN:VEVENT
DTSTART:20260827T183000
DTEND:20260827T214500
LOCATION:Feusi Bildungszentrum Max-Daetwyler-Platz 1, 3014 Bern
TRANSP:OPAQUE
SEQUENCE:0
UID:82991454-b7ef-498f-84aa-bdc9ead83beb-0
DTSTAMP:20260827T183000
DESCRIPTION:Dein Karrieresprung in die Wirtschaft: Der Lehrgang Technische Kaufleute mit eidg. Fachausweis rüstet dich mit betriebswirtschaftlichem Fachwissen und Managementkompetenzen aus.\n\nVoraussetzung\n-Abgeschlossene Lehre oder Mittelschule\n-Eidgenössisches Fähigkeitszeugnis (EFZ) oder gleichwertiger Ausweis mit mindestens 3 Jahren Berufserfahrung im technisch-handwerklichen Bereich\n-Eidgenössisches Berufsattest (EBA) oder gleichwertiger Ausweis mit mindestens 5 Jahren Berufserfahrung im technisch-handwerklichen Bereich\n\n\n\nLernziele\nSie erwerben das notwendige Marketing-, Verkaufs- und Logistikwissen, um ein gutes Produkt nicht nur zu entwickeln und zu bauen, sondern dieses auch zu vermarkten.\n\n-Diplom Verband Schweizerischer Kaderschulen (VSK)\n-Technischer Kaufmann/ Technische Kauffrau mit eidg. Fachausweis\n-ICT Smart-User SIZ (freiwillig)\n-ICT Advanced-User SIZ (freiwillig)\n\nZielgruppe\nBerufsleute aus technischen oder handwerklichen Berufen, die\n\n-sich betriebswirtschaftliche Kenntnisse aneignen möchten, um den Anforderungen eines neuen Betätigungsfeldes gerecht zu werden.\n-einen anerkannten eidgenössischen Abschluss erwerben wollen.\n-für die Auftragsabwicklung in Industrie, Handel/Dienstleistung zuständig oder als Sachbearbeiter/-in oder Produktionsverantwortliche/-r tätig sind.\n-in der Kundenbetreuung, der Beschaffung oder im Verkauf arbeiten möchten.\n-sich selbstständig machen möchten.\n\nBemerkung\nWie profitiere ich von der Subjektfinanzierung des Bundes? <a href="https://www.feusi.ch/subventionen">Informieren Sie sich.</a>\n\nQuelle: www.weiterbildung.swiss\n\nhttps://www.feusi.ch/technischer-kaufmann-technische-kauffrau-eidg-fa\n\nKontakt\nFeusi Bildungszentrum\nMax-Daetwyler-Platz 1\n3014 Bern\n+41 31 537 37 37\n+41 31 537 37 38\n\nVerfügbarkeit / Datum, Zeit\n27.8.2026 18:30 - 21:45\n\n\nDas Angebot im Detail: https://www.guidle.com/angebote/1233007661/technischer_kaufmann__technische_kauffrau_eidg_fa/bern\nQuelle: https://www.guidle.com
SUMMARY:Technischer Kaufmann / Technische Kauffrau, eidg. FA
PRIORITY:5
X-MICROSOFT-CDO-IMPORTANCE:1
CLASS:PUBLIC
BEGIN:VALARM
TRIGGER:-P1D
ACTION:DISPLAY
DESCRIPTION:Reminder
END:VALARM
END:VEVENT
END:VCALENDAR