BEGIN:VCALENDAR
PRODID:-//Microsoft Corporation//Outlook 11.0 MIMEDIR//EN
VERSION:2.0
METHOD:PUBLISH
BEGIN:VEVENT
DTSTART:20270418T170000
LOCATION:Kornhaus Romanshorn Friedrichshafnerstrasse 54, 8590 Romanshorn
TRANSP:OPAQUE
SEQUENCE:0
UID:4e990e3b-92a9-4c13-a271-5bc80377d18a-0
DTSTAMP:20270418T170000
DESCRIPTION:Mitwirkende: \nDas Kriminal Dinner\n\nKontakt\nTicketcorner\n0900 800 800 (CHF 1.19/min.)\n\nVerfügbarkeit / Datum, Zeit\n18.4.2027 17:00 - \n\nPreis\nNormalpreis + Menü: 132,80 CHF\n\nVorverkauf\nhttps://www.ticketcorner.ch/artist/das-kriminal-dinner/?affiliate=GUI&utm_source=GUI&utm_medium=dp&utm_campaign=guidle\n\n\nDas Angebot im Detail: https://www.guidle.com/angebote/1233264211/das_kriminal_dinner_sherlock_holmes_und_die_vergiftete_maultaschlesupp/romanshorn\nQuelle: https://www.guidle.com
SUMMARY:Das Kriminal Dinner Sherlock Holmes und die vergiftete Maultäschlesupp
PRIORITY:5
X-MICROSOFT-CDO-IMPORTANCE:1
CLASS:PUBLIC
BEGIN:VALARM
TRIGGER:-P1D
ACTION:DISPLAY
DESCRIPTION:Reminder
END:VALARM
END:VEVENT
END:VCALENDAR