BEGIN:VCALENDAR
PRODID:-//Microsoft Corporation//Outlook 11.0 MIMEDIR//EN
VERSION:2.0
METHOD:PUBLISH
BEGIN:VEVENT
DTSTART:20261121T190000
LOCATION:Kornhaus Romanshorn Friedrichshafnerstrasse 54, 8590 Romanshorn
TRANSP:OPAQUE
SEQUENCE:0
UID:96bd1795-4188-4967-9dc3-bf8179dc56d2-0
DTSTAMP:20261121T190000
DESCRIPTION:Mitwirkende: \nDas Kriminal Dinner\n\nKontakt\nTicketcorner\n0900 800 800 (CHF 1.19/min.)\n\nVerfügbarkeit / Datum, Zeit\n21.11.2026 19:00 - \n9.1.2027 19:00 - \n\nPreis\nNormalpreis + Menü: 132,80 CHF\n\nVorverkauf\nhttps://www.ticketcorner.ch/artist/das-kriminal-dinner/?affiliate=GUI&utm_source=GUI&utm_medium=dp&utm_campaign=guidle\n\n\nDas Angebot im Detail: https://www.guidle.com/angebote/1233264845/das_kriminal_dinner_eine_leiche_im_louvre/romanshorn\nQuelle: https://www.guidle.com
SUMMARY:Das Kriminal Dinner Eine Leiche im Louvre
PRIORITY:5
X-MICROSOFT-CDO-IMPORTANCE:1
CLASS:PUBLIC
BEGIN:VALARM
TRIGGER:-P1D
ACTION:DISPLAY
DESCRIPTION:Reminder
END:VALARM
END:VEVENT
END:VCALENDAR