BEGIN:VCALENDAR
PRODID:-//Microsoft Corporation//Outlook 11.0 MIMEDIR//EN
VERSION:2.0
METHOD:PUBLISH
BEGIN:VEVENT
DTSTART:20260426T100000
LOCATION:Ref. Kirche  Untergasse 13, 7247 Saas im Prättigau
TRANSP:OPAQUE
SEQUENCE:0
UID:7287af7d-9d4b-41af-a3a3-46390b3aa5ad-0
DTSTAMP:20260426T100000
DESCRIPTION:Gottesdienst mit hilfreichen Gedanken und Gebeten, gemeinsam gesungenen Liedern und Musik. \n\nKontakt\nHanspeter Joos\nSozialdiakon\n081 322 29 60\n\nVerfügbarkeit / Datum, Zeit\n26.4.2026 10:00 - \n\n\nDas Angebot im Detail: https://www.guidle.com/angebote/1233409764/gottesdienst_mit_hanspeter_joos_sozialdiakon/saas_im_prattigau\nQuelle: https://www.guidle.com
SUMMARY:Gottesdienst mit Hanspeter Joos, Sozialdiakon
PRIORITY:5
X-MICROSOFT-CDO-IMPORTANCE:1
CLASS:PUBLIC
BEGIN:VALARM
TRIGGER:-P1D
ACTION:DISPLAY
DESCRIPTION:Reminder
END:VALARM
END:VEVENT
END:VCALENDAR