BEGIN:VCALENDAR
PRODID:-//Microsoft Corporation//Outlook 11.0 MIMEDIR//EN
VERSION:2.0
METHOD:PUBLISH
BEGIN:VEVENT
DTSTART:20260603T190000
DTEND:20260603T210000
LOCATION:Auwiesenstrasse Auwiesenstrasse, 9214 Kradolf
TRANSP:OPAQUE
SEQUENCE:0
UID:79dc0028-2367-41a7-a6b4-c9c9c0b21dac-0
DTSTAMP:20260603T190000
DESCRIPTION:Bei dieser Exkursion erhalten Sie Einblicke in die Renaturierung und Vernässung des Heiligenschlächts. Das Projekt wird vom Ökofonds der Kraftwerke Au-Schönenberg und Bürglen unterstützt. Anschliessend besuchen wir in Ast bei Berg im Gebiet Gampen eine von Bibern gestaltete über 1ha grosse Vernässungsfläche. Fachleute erläutern vor Ort die Auswirkungen und die Lösungen, welche mit den Landbesitzern gefunden wurden.\n\nBemerkung\nDieser Anlass wird in Zusammenarbeit mit BirdLife Thurgau, Jagd Thurgau, Verband Thurgauer Landwirtschaft, WaldThurgau und pro natura Thurgau durchgeführt.\n\nEs ist keine Anmeldung nötig.\n\nhttps://events.wwf.ch/de/waldvernassung-durch-mensch-oder-biber-4a6vVj1QDN/overview\n\nKontakt\nWWF Regiobuero AP-SG-TG\n071 221 72 30\n\nVerfügbarkeit / Datum, Zeit\n3.6.2026 19:00 - 21:00\n\nPreis\nkostenlos\n\n\nDas Angebot im Detail: https://www.guidle.com/angebote/1233442509/waldvernassung_durch_mensch_oder_biber/kradolf\nQuelle: https://www.guidle.com
SUMMARY:Waldvernässung durch Mensch oder Biber
PRIORITY:5
X-MICROSOFT-CDO-IMPORTANCE:1
CLASS:PUBLIC
BEGIN:VALARM
TRIGGER:-P1D
ACTION:DISPLAY
DESCRIPTION:Reminder
END:VALARM
END:VEVENT
END:VCALENDAR