BEGIN:VCALENDAR
PRODID:-//Microsoft Corporation//Outlook 11.0 MIMEDIR//EN
VERSION:2.0
METHOD:PUBLISH
BEGIN:VEVENT
DTSTART:20260426T100000
LOCATION:Evang.-ref. Kirche Davos Monstein Kirchenstrasse, 7278 Davos Monstein
TRANSP:OPAQUE
SEQUENCE:0
UID:a3e31228-086d-4fe5-b5c1-6167bf0d2573-0
DTSTAMP:20260426T100000
DESCRIPTION:mit Pfarrer Richard Aebi. Anschliessend findet um 11 Uhr die Kirchgemeindeversammlung statt mit Apéro.\n\nKontakt\nRichard Aebi\nPfarrer\n\nVerfügbarkeit / Datum, Zeit\n26.4.2026 10:00 - \n\n\nDas Angebot im Detail: https://www.guidle.com/angebote/1233470356/gottesdienst_-_kirche_monstein/davos_monstein\nQuelle: https://www.guidle.com
SUMMARY:Gottesdienst - Kirche Monstein
PRIORITY:5
X-MICROSOFT-CDO-IMPORTANCE:1
CLASS:PUBLIC
BEGIN:VALARM
TRIGGER:-P1D
ACTION:DISPLAY
DESCRIPTION:Reminder
END:VALARM
END:VEVENT
END:VCALENDAR