BEGIN:VCALENDAR
PRODID:-//Microsoft Corporation//Outlook 11.0 MIMEDIR//EN
VERSION:2.0
METHOD:PUBLISH
BEGIN:VEVENT
DTSTART:20260319
LOCATION:Kunstverein Uster , Akku Kunstkiste Quellenstrasse - Stadtpark Uster, 8610 Uster
TRANSP:OPAQUE
RRULE:FREQ=WEEKLY;INTERVAL=1;UNTIL=20260604;WKST=MO;BYDAY=MO,TU,WE,TH,FR,SA,SU
UID:98e8d449-a82f-49b8-96e4-a7bcf56eb4c4-0
DTSTAMP:20260319T120000
DESCRIPTION:Adrian Künzi\n1956 Stein am Rhein CH\nNach einem Vorkurs absolvierte er sein Studium an der\nFachhochschule für Gestaltung Zürich. Seit 1989 arbeitete\ner als freischaffender Künstler mit Schwerpunkt auf\nHolzskulpturen und Druckgrafik. Seine künstlerische Haltung\nentspringt einer grundlegenden Frage nach dem Wesen\ndes Materials.\n«Schiffsskelett»\nAdrian Künzi bespielt die Akku Kunstkiste im öffentlichen Raum, Stadtpark Uster, mit einem Holz-Objekt\nDas Schiffsskelett steht auf wackeligen Stelzen es steht nicht perfekt - es kämpft gegen die Schwerkraft des Schiffscontainer. Der Container ist funktional genormt, brutal ehrlich. \nMein Schiffsskelett entsteht aus Eichenholz, gefräst mit der Kettensäge als direktes, körperliches Werkzeug.\nDas schwere, widerständige Holz trifft auf die fragile Konstruktion – ein Spiel zwischen Masse und scheinbarer Schwerelosigkeit. Das Schiff steht erhöht, entrückt vom Boden, als würde es sich bereits auf einer Reise befinden. Mich interessiert die Leichtigkeit: visuell, statisch und die Symbolik. Die Stelzen tragen nicht nur Gewicht, sondern auch die Idee von Unsicherheit und Balance. Gleichzeitig ist das Schiff eine Reise in den Mythos. Als Gefährt zwischen Welten, zwischen Realität und Vorstellungen, zwischen Aufbruch und Ungewissheit.\n\n\nhttps://www.kunstverein-uster.ch\n\nKontakt\nKunstverein Uster\nAkku Kunstkiste\nRoger Ziegenhagen\nVerwaltung\nIm Lot 8\n8610 Uster\n0796654718\n\nVerfügbarkeit / Datum, Zeit\n19.3.2026 - 4.6.2026 \n9.5.2026 16:00 - 18:00\n\nAusstellung  vom 19.03. bis 04.06.26 \n19.03.2026 Vernissage. 27.03.26 / 10.04.26 / 09.05.2026 Kettensäge Events mit Adrian Küenzi\n\n\nDas Angebot im Detail: https://www.guidle.com/angebote/1233513973/akku_kunstkiste_uster_-_adrian_kuenzi_durnten_-_schiffsskelett/uster\nQuelle: www.guidle.com
SUMMARY:AKKU KUNSTKISTE USTER - Adrian Küenzi, Dürnten - "Schiffsskelett"
PRIORITY:5
X-MICROSOFT-CDO-IMPORTANCE:1
CLASS:PUBLIC
BEGIN:VALARM
TRIGGER:-P1D
ACTION:DISPLAY
DESCRIPTION:Reminder
END:VALARM
END:VEVENT
BEGIN:VEVENT
DTSTART:20260319
LOCATION:Kunstverein Uster , Akku Kunstkiste Quellenstrasse - Stadtpark Uster, 8610 Uster
TRANSP:OPAQUE
RRULE:FREQ=WEEKLY;INTERVAL=1;UNTIL=20260604;WKST=MO;BYDAY=MO,TU,WE,TH,FR,SA,SU
UID:98e8d449-a82f-49b8-96e4-a7bcf56eb4c4-1
DTSTAMP:20260319T120000
DESCRIPTION:Adrian Künzi\n1956 Stein am Rhein CH\nNach einem Vorkurs absolvierte er sein Studium an der\nFachhochschule für Gestaltung Zürich. Seit 1989 arbeitete\ner als freischaffender Künstler mit Schwerpunkt auf\nHolzskulpturen und Druckgrafik. Seine künstlerische Haltung\nentspringt einer grundlegenden Frage nach dem Wesen\ndes Materials.\n«Schiffsskelett»\nAdrian Künzi bespielt die Akku Kunstkiste im öffentlichen Raum, Stadtpark Uster, mit einem Holz-Objekt\nDas Schiffsskelett steht auf wackeligen Stelzen es steht nicht perfekt - es kämpft gegen die Schwerkraft des Schiffscontainer. Der Container ist funktional genormt, brutal ehrlich. \nMein Schiffsskelett entsteht aus Eichenholz, gefräst mit der Kettensäge als direktes, körperliches Werkzeug.\nDas schwere, widerständige Holz trifft auf die fragile Konstruktion – ein Spiel zwischen Masse und scheinbarer Schwerelosigkeit. Das Schiff steht erhöht, entrückt vom Boden, als würde es sich bereits auf einer Reise befinden. Mich interessiert die Leichtigkeit: visuell, statisch und die Symbolik. Die Stelzen tragen nicht nur Gewicht, sondern auch die Idee von Unsicherheit und Balance. Gleichzeitig ist das Schiff eine Reise in den Mythos. Als Gefährt zwischen Welten, zwischen Realität und Vorstellungen, zwischen Aufbruch und Ungewissheit.\n\n\nhttps://www.kunstverein-uster.ch\n\nKontakt\nKunstverein Uster\nAkku Kunstkiste\nRoger Ziegenhagen\nVerwaltung\nIm Lot 8\n8610 Uster\n0796654718\n\nVerfügbarkeit / Datum, Zeit\n19.3.2026 - 4.6.2026 \n9.5.2026 16:00 - 18:00\n\nAusstellung  vom 19.03. bis 04.06.26 \n19.03.2026 Vernissage. 27.03.26 / 10.04.26 / 09.05.2026 Kettensäge Events mit Adrian Küenzi\n\n\nDas Angebot im Detail: https://www.guidle.com/angebote/1233513973/akku_kunstkiste_uster_-_adrian_kuenzi_durnten_-_schiffsskelett/uster\nQuelle: www.guidle.com
SUMMARY:AKKU KUNSTKISTE USTER - Adrian Küenzi, Dürnten - "Schiffsskelett"
PRIORITY:5
X-MICROSOFT-CDO-IMPORTANCE:1
CLASS:PUBLIC
BEGIN:VALARM
TRIGGER:-P1D
ACTION:DISPLAY
DESCRIPTION:Reminder
END:VALARM
END:VEVENT
END:VCALENDAR