BEGIN:VCALENDAR
PRODID:-//Microsoft Corporation//Outlook 11.0 MIMEDIR//EN
VERSION:2.0
METHOD:PUBLISH
BEGIN:VEVENT
DTSTART:20260505T180000
DTEND:20260505T200000
LOCATION:Sport- und Kulturzentrum Dreispitz, Dreifachturnhalle Pestalozzistrasse 27, 8280 Kreuzlingen
TRANSP:OPAQUE
SEQUENCE:0
UID:4b02933d-731e-472c-a865-78a86b078b9d-0
DTSTAMP:20260505T180000
DESCRIPTION:Rückenschmerzen zählen zu den häufigsten gesundheitlichen Beschwerden überhaupt. Fast jeder Mensch erlebt sie im Laufe seines Lebens – manchmal nur kurzzeitig, manchmal über Wochen oder Monate hinweg. Häufig steht dabei ein kleiner, aber entscheidender Bestandteil unserer Wirbelsäule im Mittelpunkt: die Bandscheibe.\n\nDoch was genau ist eine Bandscheibe eigentlich? Warum verursacht sie Schmerzen? Und wann steckt hinter Beschwerden mehr als nur eine harmlose Verspannung?\n\nDieser Publikumsvortrag richtet sich an Betroffene, Angehörige und alle Interessierten. Medizinische Zusammenhänge werden verständlich erklärt, typische Ängste eingeordnet und moderne Behandlungsmöglichkeiten aufgezeigt.\n\nIm Anschluss besteht die Möglichkeit, Fragen zu stellen und individuelle Anliegen zu besprechen.\n\nhttps://www.herz-neuro-zentrum.ch\n\nKontakt\nHerz-Neuro-Zentrum Bodensee\n\nVerfügbarkeit / Datum, Zeit\n5.5.2026 18:00 - 20:00\n\nPreis\nEintritt frei\n\n\nDas Angebot im Detail: https://www.guidle.com/angebote/1233602961/publikumsvortrag_-_unter_druck__die_bandscheibe_zwischen_last_und_leichtigkeit/kreuzlingen\nQuelle: https://www.guidle.com
SUMMARY:Publikumsvortrag - Unter Druck – Die Bandscheibe zwischen Last und Leichtigkeit
PRIORITY:5
X-MICROSOFT-CDO-IMPORTANCE:1
CLASS:PUBLIC
BEGIN:VALARM
TRIGGER:-P1D
ACTION:DISPLAY
DESCRIPTION:Reminder
END:VALARM
END:VEVENT
END:VCALENDAR