BEGIN:VCALENDAR
PRODID:-//Microsoft Corporation//Outlook 11.0 MIMEDIR//EN
VERSION:2.0
METHOD:PUBLISH
BEGIN:VEVENT
DTSTART:20260509T170000
LOCATION:Divadlo Bez zábradlí Jungmannova  31, 110 00 Prag 1 - Nové Město
TRANSP:OPAQUE
SEQUENCE:0
UID:80d8205c-350d-4911-a6a9-ac005481d8f5-0
DTSTAMP:20260509T170000
DESCRIPTION:Svatební cesta, která se zvrtla. Zapeklitá situace se svérázným řešením. Série trapasů, duchaplné dialogy i odchod po anglicku. V pikantní komedii jednoho z nejvtipnějších britských komediografů.\n\nVerfügbarkeit / Datum, Zeit\n9.5.2026 17:00 - \n21.5.2026 19:00 - \n\nPreis\n599 - 899 CZK\n\nVorverkauf\nhttps://colosseumticket.cz/cs/akce/PNjRKDfTSGC9XiDWuY21Fg-soukrome-zivoty?a_box=4a6xzvr6\n\n\nDas Angebot im Detail: https://www.guidle.com/angebote/1233691955/soukrome_zivoty/praha_1_-_nove_mesto\nQuelle: https://www.guidle.com
SUMMARY:Soukromé životy
PRIORITY:5
X-MICROSOFT-CDO-IMPORTANCE:1
CLASS:PUBLIC
BEGIN:VALARM
TRIGGER:-P1D
ACTION:DISPLAY
DESCRIPTION:Reminder
END:VALARM
END:VEVENT
END:VCALENDAR