BEGIN:VCALENDAR
PRODID:-//Microsoft Corporation//Outlook 11.0 MIMEDIR//EN
VERSION:2.0
METHOD:PUBLISH
BEGIN:VEVENT
DTSTART:20260508T190000
LOCATION:Konzil Konstanz Hafenstrasse 2, 78462 Konstanz
TRANSP:OPAQUE
SEQUENCE:0
UID:df2cd35c-395d-4e5a-8776-3d865a2d2d0c-0
DTSTAMP:20260508T190000
DESCRIPTION:<b>Das Varieté Dinner\nLadies and Gentlemen… it’s Showtime!</b>\n\nDinner &amp; Live-Entertainment: Freuen Sie sich auf einen grandiosen Abend mit artistischen Highlights und kulinarischen Genüssen. Showeinlagen und Gaumenfreuden im Wechsel bieten garantiert beste Unterhaltung.\nDas Varieté-Dinner ist wirklich ein einzigartiges Erlebnis unter unseren Dinner-Events.\n\nKontakt\nTicketcorner\n0900 800 800 (CHF 1.19/min.)\n\nVerfügbarkeit / Datum, Zeit\n8.5.2026 19:00 - \n9.5.2026 19:00 - \n10.5.2026 17:00 - \n12.11.2026 19:00 - \n13.11.2026 19:00 - \n14.11.2026 19:00 - \n15.11.2026 17:00 - \n\nPreis\nPreiskategorie 1: 89,30 CHF\n\nVorverkauf\nhttps://www.ticketcorner.ch/eventseries/das-variete-dinner-2627-4081212/?affiliate=GUI&utm_source=GUI&utm_medium=dp&utm_campaign=guidle\n\n\nDas Angebot im Detail: https://www.guidle.com/angebote/1234256644/das_variete_dinner_-_kulinarischer_genuss_und_garantierte_unterhaltung/konstanz\nQuelle: https://www.guidle.com
SUMMARY:Das Varieté Dinner - Kulinarischer Genuss und garantierte Unterhaltung
PRIORITY:5
X-MICROSOFT-CDO-IMPORTANCE:1
CLASS:PUBLIC
BEGIN:VALARM
TRIGGER:-P1D
ACTION:DISPLAY
DESCRIPTION:Reminder
END:VALARM
END:VEVENT
END:VCALENDAR