BEGIN:VCALENDAR
PRODID:-//Microsoft Corporation//Outlook 11.0 MIMEDIR//EN
VERSION:2.0
METHOD:PUBLISH
BEGIN:VEVENT
DTSTART:20260618T190000
DTEND:20260618T200000
LOCATION:Schloss Wildegg Effingerweg 5, 5103 Wildegg
TRANSP:OPAQUE
SEQUENCE:0
UID:62949eb8-aa20-442b-9c6e-062d5fce1d74-0
DTSTAMP:20260618T190000
DESCRIPTION:Vier Abende, drei Schlösser, ein Kloster: Museum Aargau lädt 2026 zur Veranstaltungsreihe "Festzeiten!" ein. Ausgewählte historische Objekte aus der Sammlung erzählen von Ritualen, Zeremonien und Festkulturen. Eine Einladung zum Innehalten, Staunen – und zum gemeinsamen Nachdenken darüber, warum gefeiert wird.\n\nAuf Schloss Wildegg dreht sich der Abend um die höfische Lebensart, Genuss und Repräsentation. Ob bei opulenten Mahlzeiten, Musik, Tanz oder in der strengen Ordnung der Etikette: Feiern verbanden Sinnlichkeit mit sozialer Distinktion. \n\n"Festzeiten!" findet 2026 auf den Schlössern Wildegg, Habsburg und Hallwyl sowie auf der Klosterhalbinsel Wettingen statt. Jeder dieser historischen Schauplätze setzt eigene Akzente und beleuchtet mit historischen Sammlungsobjekten Festkulturen aus neuer Perspektive.\n\nhttps://www.museumaargau.ch/schloss-wildegg/event/festzeiten-sw\n\nKontakt\nMuseum Aargau - Schloss Wildegg\nEffingerweg 5\n5103 Wildegg\n+41 (0)848 871 200\n\nVerfügbarkeit / Datum, Zeit\n18.6.2026 19:00 - 20:00\n\nPreis\nCHF 18.00\n\nVorverkauf\nhttps://shop.museumaargau.ch/de/guided-tours/1223\n\n\nDas Angebot im Detail: https://www.guidle.com/angebote/1234268876/festzeiten_hofische_festkultur_und_tafelfreuden/wildegg\nQuelle: https://www.guidle.com
SUMMARY:Festzeiten! Höfische Festkultur und Tafelfreuden 
PRIORITY:5
X-MICROSOFT-CDO-IMPORTANCE:1
CLASS:PUBLIC
BEGIN:VALARM
TRIGGER:-P1D
ACTION:DISPLAY
DESCRIPTION:Reminder
END:VALARM
END:VEVENT
END:VCALENDAR