BEGIN:VCALENDAR
PRODID:-//Microsoft Corporation//Outlook 11.0 MIMEDIR//EN
VERSION:2.0
METHOD:PUBLISH
BEGIN:VEVENT
DTSTART:20260925T191000
DTEND:20260925T211500
LOCATION:ARA Frauenfeld Haubitzenstrasse 40, 8500 Frauenfeld
TRANSP:OPAQUE
SEQUENCE:0
UID:f79d4765-cd76-4132-b96e-b9059e0ce61f-0
DTSTAMP:20260925T191000
DESCRIPTION:Wenn die Nacht hereinbricht, starten die Fledermäuse ihre Jagd – doch nicht nur das Überleben steht im Mittelpunkt. Auch die Balz spielt eine wichtige Rolle. Bis zu hundert Abendsegler ziehen über das Gelände der Frauenfelder ARA. Gemeinsam beobachten wir die Tiere und erfahren Spannendes über ihr Sozialverhalten: Warum haben sie sich gerade hier angesiedelt? Auf dieser Exkursion tauchen Sie in die faszinierende Welt der Fledermäuse ein. Zudem bietet der Fledermausschutz im Raum Frauenfeld Möglichkeiten zum Mitmachen – die ideale Gelegenheit, sich kennenzulernen!\n\nhttps://events.wwf.ch/de/balz-im-abendflug-fledermause-beobachten-4a6vVj1Qi1/overview\n\nKontakt\nWWF Regiobuero AP-SG-TG\n071 221 72 30\n\nVerfügbarkeit / Datum, Zeit\n25.9.2026 19:10 - 21:15\n\nAn- und Rückreise:\n\nab SG BHF 17:37 Uhr Gl. 1 IR13 Richtung Luzern\nweiter Wil SG 18:11 Uhr Gl. 11 S15 Richtung Frauenfeld\nweiter Frauenfeld, Bahnhof 18:45 Uhr Bus B825 Richtung Stein am Rhein, Bahnhof\nan Frauenfeld Thurstrasse 18:48 Uhr\n\nca. 15 Minuten Fussweg zum Treffpunkt\n\nPreis\nErwachsene CHF 15.00\nWWF Mitglied Erwachsene CHF 10.00\nKinder & Jugendliche CHF 5.00\n\n\nDas Angebot im Detail: https://www.guidle.com/angebote/1234626957/balz_im_abendflug_-_fledermause_beobachten/frauenfeld\nQuelle: https://www.guidle.com
SUMMARY:Balz im Abendflug - Fledermäuse beobachten
PRIORITY:5
X-MICROSOFT-CDO-IMPORTANCE:1
CLASS:PUBLIC
BEGIN:VALARM
TRIGGER:-P1D
ACTION:DISPLAY
DESCRIPTION:Reminder
END:VALARM
END:VEVENT
END:VCALENDAR