BEGIN:VCALENDAR
PRODID:-//Microsoft Corporation//Outlook 11.0 MIMEDIR//EN
VERSION:2.0
METHOD:PUBLISH
BEGIN:VEVENT
DTSTART:20261005T140000
DTEND:20261005T171500
LOCATION:Lindenhofpark Lindenstrasse, 8500 Frauenfeld
TRANSP:OPAQUE
SEQUENCE:0
UID:8b33b8c9-332f-4322-a682-7362f36c4c8c-0
DTSTAMP:20261005T140000
DESCRIPTION:Der Wanderfisch Lachs legt in seinem Leben tausende Kilometer zurück und ist bei uns seit 60 Jahren ausgestorben. Begib dich mit Aqua Viva und dem WWF auf die Spuren des Lachses. Der Wanderfisch Lachs reist in seinem Leben weite Strecken und war früher auch bei uns in der Schweiz ein vielgesehener Gast. Welche Gründe hat sein Verschwinden? Was können wir tun, damit er wieder in die Schweiz zurückkehrt? Was bedeuten überhaupt natürliche und verbaute Gewässer? Um genau diese Fragen auf entdeckende, erforschende und spielerische Art und Weise zu ergründen, haben Aqua Viva (Projekt Fluss frei!) und der WWF Schweiz (Projekt Lachs Comeback) dieses Angebot für Kinder entwickelt.\n\nhttps://events.wwf.ch/de/fluss-frei-fur-den-lachs-4a6vVj1SIP/overview\n\nKontakt\nWWF Regiobuero AP-SG-TG\n071 221 72 30\n\nVerfügbarkeit / Datum, Zeit\n5.10.2026 14:00 - 17:15\n\nPreis\nKinder & Jugendliche CHF 10.00\n\n\nDas Angebot im Detail: https://www.guidle.com/angebote/1234627073/fluss_frei_fur_den_lachs/frauenfeld\nQuelle: https://www.guidle.com
SUMMARY:Fluss frei für den Lachs
PRIORITY:5
X-MICROSOFT-CDO-IMPORTANCE:1
CLASS:PUBLIC
BEGIN:VALARM
TRIGGER:-P1D
ACTION:DISPLAY
DESCRIPTION:Reminder
END:VALARM
END:VEVENT
END:VCALENDAR