BEGIN:VCALENDAR
PRODID:-//Microsoft Corporation//Outlook 11.0 MIMEDIR//EN
VERSION:2.0
METHOD:PUBLISH
BEGIN:VEVENT
DTSTART:20260424T200000
DTEND:20260424T220000
LOCATION:Kultur- und Gemeindezentrum Aadorf, Gemeindesaal Gemeindeplatz 1, 8355 Aadorf
TRANSP:OPAQUE
SEQUENCE:0
UID:0ec7aa20-58a0-4df2-9e92-2576e9341db7-0
DTSTAMP:20260424T200000
DESCRIPTION:Mit der Swiss Percussion Night präsentiert Fabian Ziegler einen Konzertabend, der Rhythmus in all seinen Facetten zelebriert – kraftvoll, virtuos und überraschend vielschichtig.\n\nErlebe Rhythmus pur bei der Swiss Percussion Night – der ultimativen Percussion-Show! Mitreißende Beats, explosive Energie und atemberaubende Klangvielfalt verschmelzen mit Schweizer Präzision und kreativer Klangkunst zu einem intensiven Live-Erlebnis.\n\nZwischen archaischer Urkraft und filigraner Raffinesse entfaltet sich ein musikalisches Feuerwerk: pulsierende Grooves, schwebende Marimbaklänge, packende Solomomente und überraschende Klangfarben lassen die Grenzen zwischen Konzert, Performance und Show verschwimmen.\n\nFabian Ziegler zeigt die ganze Bandbreite der Perkussion – als melodisches und hochvirtuoses Instrumentarium. Die Swiss Percussion Night ist mehr als ein Konzert: Sie ist ein energiegeladenes Statement für die Faszination des Rhythmus – unmittelbar, intensiv und unvergesslich.\n\nhttps://www.swissartistscircle.ch\n\nKontakt\nSwiss Artist's Circle\nFabian Ziegler\nAustrasse 41\n9548 Matzingen\n\nVerfügbarkeit / Datum, Zeit\n24.4.2026 20:00 - 22:00\n\nPreis\nEintritt frei, Kollekte\n\nVorverkauf\nhttps://eventfrog.ch/de/p/konzerte/weitere-musikrichtungen/swiss-percussion-night-7343983327244775631.html\n\n\nDas Angebot im Detail: https://www.guidle.com/angebote/1235568428/swiss_percussion_night_-_fabian_ziegler/aadorf\nQuelle: https://www.guidle.com
SUMMARY:Swiss Percussion Night - Fabian Ziegler
PRIORITY:5
X-MICROSOFT-CDO-IMPORTANCE:1
CLASS:PUBLIC
BEGIN:VALARM
TRIGGER:-P1D
ACTION:DISPLAY
DESCRIPTION:Reminder
END:VALARM
END:VEVENT
END:VCALENDAR