BEGIN:VCALENDAR
PRODID:-//Microsoft Corporation//Outlook 11.0 MIMEDIR//EN
VERSION:2.0
METHOD:PUBLISH
BEGIN:VEVENT
DTSTART:20260509T200000
DTEND:20260509T230000
LOCATION:Kino Rätia Bühne Obere Stallstrasse 14, 7430 Thusis
TRANSP:OPAQUE
SEQUENCE:0
UID:8bb3db3c-6a9b-45bd-a7df-4da59902ddc4-0
DTSTAMP:20260509T200000
DESCRIPTION:<p>Heimatland, Bauernland, Bauland, Brachland, Niemandsland. Er zieht &uuml;ber Land, st&ouml;sst landauf, landab auf Gemeinpl&auml;tze, Dorfpl&auml;tze, Golfpl&auml;tze, Baupl&auml;tze, Grillpl&auml;tze, Parkpl&auml;tze.<br />Spielend, predigend, gestikulierend, singend und musizierend.<br />Fahnen flattern mit dem Wind.<br />Wahlversprecher sprechen &uuml;bers Land.<br />Es wird gewettert.<br />Das Land wirtschaftet.<br />Nach uns: das Alpengl&uuml;hen.</p><p>Reservation erw&uuml;nscht.</p><p></p>\n\nhttps://www.kinoraetia.ch\n\nKontakt\nKino Theater Rätia\nObere Stallstrasse 14\n7430 Thusis\n+41 79 795 15 15\n\nVerfügbarkeit / Datum, Zeit\n9.5.2026 20:00 - 23:00\n\nPreis\nErw. CHF 35.00, Mitglieder CHF 28.00, Kinder CHF 15.00\n\nVorverkauf\nReservation erwünscht\nhttps://kinoraetia.ch/kategorie/buehne/\n\n\nDas Angebot im Detail: https://www.guidle.com/angebote/1235834218/gerhardtschan_mit_uberlandsicht/thusis\nQuelle: https://www.guidle.com
SUMMARY:Gerhardtschan mit "Überlandsicht"
PRIORITY:5
X-MICROSOFT-CDO-IMPORTANCE:1
CLASS:PUBLIC
BEGIN:VALARM
TRIGGER:-P1D
ACTION:DISPLAY
DESCRIPTION:Reminder
END:VALARM
END:VEVENT
END:VCALENDAR