BEGIN:VCALENDAR
PRODID:-//Microsoft Corporation//Outlook 11.0 MIMEDIR//EN
VERSION:2.0
METHOD:PUBLISH
BEGIN:VEVENT
DTSTART:20260523T140000
DTEND:20260523T153000
LOCATION:Mosteria Bussinger Im Letten 14, 8536 Hüttwilen
TRANSP:OPAQUE
SEQUENCE:0
UID:19eee73c-987a-4944-9218-879280faf12b-0
DTSTAMP:20260523T140000
DESCRIPTION:Die modern eingerichtete Mosterei bietet die Gelegenheit, das Handwerk der Saftherstellung hautnah zu erleben. Während einer rund 45-minütigen Führung wird der gesamte Weg vom Apfel bis zum fertigen Produkt aufgezeigt. Dabei erhalten Interessierte einen direkten Blick hinter die Kulissen der Produktion und erfahren Wissenswertes über das Geheimnis des roten Redlove-Apfels.\n\nIm Anschluss an den Rundgang findet eine Degustation verschiedener Most- und Ciderspezialitäten statt. Diese bestechen durch ihr rotes Fruchtfleisch und ein besonderes Aroma. Auf Wunsch wird dazu ein passender kleiner Imbiss serviert, welcher die Geschmacksprofile der Getränke ergänzt.\n\nOb als Familie oder Gruppe - dieses Erlebnis ermöglicht einen authentischen Einblick in die Thurgauer Mosttradition und richtet sich an alle, die das Besondere aus der Region suchen.\n\nhttps://mosteria.ch/\n\nKontakt\nMosterei Bussinger GmbH\nMosteria\nIm Letten 14\n8536 Hüttwilen\n+41 (0)52 747 16 35\n\nVerfügbarkeit / Datum, Zeit\n23.5.2026 14:00 - 15:30\n\nDie Veranstaltung findet bei jeder Witterung statt.\n\nPreis\nErwachsene CHF 25.00\nKinder CHF 15.00\n\nVorverkauf\nhttps://thurgau-bodensee.ch/buchen/erlebnisse.html#/experience/TDS00020016181448275\n\n\nDas Angebot im Detail: https://www.guidle.com/angebote/1235850329/das_geheimnis_des_roten_apfels/huttwilen\nQuelle: https://www.guidle.com
SUMMARY:Das Geheimnis des roten Apfels
PRIORITY:5
X-MICROSOFT-CDO-IMPORTANCE:1
CLASS:PUBLIC
BEGIN:VALARM
TRIGGER:-P1D
ACTION:DISPLAY
DESCRIPTION:Reminder
END:VALARM
END:VEVENT
END:VCALENDAR