BEGIN:VCALENDAR
PRODID:-//Microsoft Corporation//Outlook 11.0 MIMEDIR//EN
VERSION:2.0
METHOD:PUBLISH
BEGIN:VEVENT
DTSTART:20260704T183000
DTEND:20260704T200000
LOCATION:Festsaal, im Kloster Muri Seetalstrasse 6, 5630 Muri AG
TRANSP:OPAQUE
SEQUENCE:0
UID:f4a1faef-bb32-44ee-84ab-60d7cbb5f310-0
DTSTAMP:20260704T183000
DESCRIPTION:Das Chorwerk « Misa Tango di Buenos Aires » des argentinischen Komponisten Martin Palmeri verbindet traditionelle Kirchenmusik mit Tango Nuevo im Stil von Astor Piazzolla. Aufbau und Text des Chorwerks entsprechen dem klassischen Ablauf der lateinischen Messe mit Kyrie, Gloria, Credo, Sanctus, Benedictus, Agnus Dei.\n\nRund 80 Sänger:innen des Zürcher Chors Vocalino unter der Leitung des Dirigenten Beat Dähler, der Mezzosopranistin Cassandre Stornetta, 12 Streicher, ein Pianist und Luciano Jungman am Bandoneon führen das Chorwerk nach ihrem Erfolg in der Carnegie Hall in New York, in Muri (AG) auf.\n\nIm zweiten Teil hören Sie ein musikalisches Zwiegespräch zwischen Bandoneon ((Luciano Jungman) und Gitarre (Alejandro Sancho) mit Werken von Piazzolla, Pugliese, Stamponi und Troglio.\n\nhttps://www.murikultur.ch\n\nKontakt\nMuri Info / Besucherzentrum \nMarktstrasse 4\n5630 Muri\n056 664 70 11\n\nVerfügbarkeit / Datum, Zeit\n4.7.2026 18:30 - 20:00\n\n18:00 Uhr Einlass\n\nPreis\nCHF 45.00 - Erwachsene\nCHF 25.00 - Schüler, Lernende, Studenten\n\nVorverkauf\nMuri Info / Besucherzentrum\nMarktstrasse 5630 Muri\ninfo@murikultur.ch\n056 664 70 11\nhttps://www.murikultur.ch/tickets/EE590D4F-D9EC-43B3-BB52-95E8FCB3C287\n\n\nDas Angebot im Detail: https://www.guidle.com/angebote/1236174669/konzert_misa_tango_-_chor_vocalino/muri_ag\nQuelle: https://www.guidle.com
SUMMARY:Konzert Misa Tango - Chor Vocalino
PRIORITY:5
X-MICROSOFT-CDO-IMPORTANCE:1
CLASS:PUBLIC
BEGIN:VALARM
TRIGGER:-P1D
ACTION:DISPLAY
DESCRIPTION:Reminder
END:VALARM
END:VEVENT
END:VCALENDAR