BEGIN:VCALENDAR
PRODID:-//Microsoft Corporation//Outlook 11.0 MIMEDIR//EN
VERSION:2.0
METHOD:PUBLISH
BEGIN:VEVENT
DTSTART:20260423T132500
DTEND:20260426T185000
LOCATION:Bellevue, 8001 Zürich
TRANSP:OPAQUE
RRULE:FREQ=WEEKLY;INTERVAL=1;UNTIL=20260426T185000;WKST=MO;BYDAY=TU,WE,TH,FR
UID:eedb0a24-e393-49ae-8bbb-1159cab7a97f-0
DTSTAMP:20260423T132500
DESCRIPTION:Einsteigen, der Böögg fährt los! Im Frühling nimmt das Züri Märlitram Kinder von 4 bis 9 Jahren mit auf eine märchenhafte Fahrt durch die Stadt. Der Böögg amtet als Tramführer, Erzähler:innen im Zunftkostüm begleiten die Kinder und lassen Geschichten rund um das Sechseläuten und Zürcher Traditionen lebendig werden. Darin erfahren die Kinder zum Beispiel, wie der Böögg gebaut wird und welche Zünfte dabei mithelfen – oder sie lernen den Gastkanton Graubünden und das Geissli Fiorella kennen. So wird das Züri Märlitram zu einem unvergesslichen Frühlingserlebnis. \n\nDie rund 20-minütige Fahrt startet am Bellevue und führt via Limmatquai, Central, Bahnhofstrasse, Paradeplatz und Bürkliplatz wieder zurück zum Bellevue. \n\nhttps://www.zuerich.com/de/freizeit/zueri-maerlitram\n\nKontakt\nZürich Tourismus\nTourist Information\nIm Hauptbahnhof\n8001 Zürich\n+41 44 215 40 00\n\nVerfügbarkeit / Datum, Zeit\n21.4.2026 - 26.4.2026 13:25 - 18:50 Di, Mi, Do, Fr\n21.4.2026 - 26.4.2026 12:20 - 18:50 Sa, So\n\nPreis\nTickets für das Züri Märlitram kosten CHF 12 pro Kind und sind ausschliesslich online buchbar. Maximal 4 Ticket sind pro Person buchbar. \n\nVorverkauf\nhttps://shop.e-guma.ch/zuerich/de/tickets/zueri-maerlitram-1989781\n\n\nDas Angebot im Detail: https://www.guidle.com/angebote/1236190986/zuri_marlitram__im_fruhling/zurich\nQuelle: www.guidle.com
SUMMARY:Züri Märlitram – im Frühling
PRIORITY:5
X-MICROSOFT-CDO-IMPORTANCE:1
CLASS:PUBLIC
BEGIN:VALARM
TRIGGER:-P1D
ACTION:DISPLAY
DESCRIPTION:Reminder
END:VALARM
END:VEVENT
END:VCALENDAR