BEGIN:VCALENDAR
PRODID:-//Microsoft Corporation//Outlook 11.0 MIMEDIR//EN
VERSION:2.0
METHOD:PUBLISH
BEGIN:VEVENT
DTSTART:20260822
LOCATION:8570 Weinfelden
TRANSP:OPAQUE
SEQUENCE:0
UID:8d526f0a-0ff4-47a4-8bad-bc013084075b-0
DTSTAMP:20260822T120000
DESCRIPTION:Für alle, die gutes Essen, spannende Weine und Bewegung an der frischen Luft lieben: Die Genusswanderung führt über rund 11km durch die wunderschönen Weinfelder Rebhänge und verbindet kulinarische Highlights mit echten Genussmomenten.\n\nAn fünf Stopps erwarten dich regionale Produzentinnen und Produzenten mit charakterstarken Weinen und authentischen Spezialitäten. Dein Ticket enthält Rucksäckli, Voucher-Booklet, erfrischendes Getränk und dein persönliches Weinglas für die gesamte Route.\n\nWähle deine Startzeit online und freue dich auf rund 6–8 Stunden voller Bewegung, Genuss und schöner Momente mit deinen Lieblingsmenschen.\n\nhttps://thurgau-bodensee.ch/blog/story/hike-taste-thurgauer-genusswanderung-8aa5c25b-0801-4402-ae5f-8ef88c6ad243.html#/\n\nKontakt\nThurgau Tourismus\nFriedrichsafnerstrasse 55a\n8590 Romanshorn\n071 531 01 31\n\nVerfügbarkeit / Datum, Zeit\n22.8.2026 \n\nVerschiedene Zeitfenster ab 9:00 Uhr bis 13:15 Uhr\n\nPreis\nCHF 115.00 pro Person\n\nVorverkauf\nhttps://thurgau-bodensee.ch/blog/story/hike-taste-thurgauer-genusswanderung-8aa5c25b-0801-4402-ae5f-8ef88c6ad243.html#/\n\n\nDas Angebot im Detail: https://www.guidle.com/angebote/1236510282/hike__taste_-_thurgauer_genusswanderung/weinfelden\nQuelle: https://www.guidle.com
SUMMARY:Hike & Taste - Thurgauer Genusswanderung
PRIORITY:5
X-MICROSOFT-CDO-IMPORTANCE:1
CLASS:PUBLIC
BEGIN:VALARM
TRIGGER:-P1D
ACTION:DISPLAY
DESCRIPTION:Reminder
END:VALARM
END:VEVENT
END:VCALENDAR