BEGIN:VCALENDAR
PRODID:-//Microsoft Corporation//Outlook 11.0 MIMEDIR//EN
VERSION:2.0
METHOD:PUBLISH
BEGIN:VEVENT
DTSTART:20280228T160000
DTEND:20280228T210000
LOCATION:Feusi Bildungszentrum Max-Daetwyler-Platz 1, 3014 Bern
TRANSP:OPAQUE
SEQUENCE:0
UID:03544216-808e-4db3-8183-4f430940e42f-0
DTSTAMP:20280228T160000
DESCRIPTION:Gestalte die digitale Zukunft: Der Diplomlehrgang zum/zur dipl. Wirtschaftsinformatiker/-in HF macht dich zum Experten für IT und Business. Führe Unternehmen durch die digitale Transformation und werde unverzichtbar in der Welt von morgen.\n\nVoraussetzung\n-Eidg. Fachausweis (Berufsprüfung)\n-Eidg. Diplom (Höhere Fachprüfung)\n-Diplom einer höheren Fachschule\n-Fachhochschulabschluss\n-Hochschulabschluss\n\nFalls Sie über einen vergleichbaren Bildungsabschluss auf Tertiärstufe sowie qualifizierte Berufspraxis verfügen, prüft die Lehrgangsleitung eine mögliche Sur-Dossier-Zulassung.\n\nLernziele\nEignen Sie sich die Fähigkeiten an, die Potenziale der Digitalisierung zu erkennen und zu nutzen, indem Sie innovative Lösungen in der betriebsinternen Wertschöpfungskette implementieren.\n\ndipl. Wirtschaftsinformatiker NDS HF/ dipl. Wirtschaftsinformatikerin NDS HF\n\nZielgruppe\nPersonen, die Ziele und Strategien für die operative und strategische Unternehmens-IT entwickeln wollen.\n\nBemerkung\nParallel oder im Anschluss an den Lehrgang besteht die exklusive Möglichkeit, ein CAS in General Management zu absolvieren. <a href="https://www.phw.ch/cas-lehrgange">Informieren Sie sich</a>.\n\nQuelle: www.weiterbildung.swiss\n\nhttps://www.feusi.ch/dipl-wirtschaftsinformatiker-wirtschaftsinformatikerin-nds-hf/\n\nKontakt\nFeusi Bildungszentrum\nMax-Daetwyler-Platz 1\n3014 Bern\n+41 31 537 37 37\n+41 31 537 37 38\n\nVerfügbarkeit / Datum, Zeit\n28.2.2028 16:00 - 21:00\n\nPreis\nTeilnahmegebühr: CHF 12600\n\n\nDas Angebot im Detail: https://www.guidle.com/angebote/1236521257/dipl_wirtschaftsinformatiker_wirtschaftsinformatikerin_nds_hf/bern\nQuelle: https://www.guidle.com
SUMMARY:dipl. Wirtschaftsinformatiker/ Wirtschaftsinformatikerin NDS HF
PRIORITY:5
X-MICROSOFT-CDO-IMPORTANCE:1
CLASS:PUBLIC
BEGIN:VALARM
TRIGGER:-P1D
ACTION:DISPLAY
DESCRIPTION:Reminder
END:VALARM
END:VEVENT
END:VCALENDAR