BEGIN:VCALENDAR
PRODID:-//Microsoft Corporation//Outlook 11.0 MIMEDIR//EN
VERSION:2.0
METHOD:PUBLISH
BEGIN:VEVENT
DTSTART:20261208T090000
DTEND:20261208T163000
LOCATION:Schweiz (ohne Ortsangabe)
TRANSP:OPAQUE
SEQUENCE:0
UID:8d5e4f2b-dbc6-4012-abc9-126aa812f0bb-0
DTSTAMP:20261208T090000
DESCRIPTION:Inhalt\nUnderstanding Cloud Fundamentals\n\nMicrosoft 365 Fundamentals\n\nSecurity, Compliance, Privacy and Trust in Microsoft 365\n\nSubscriptions and support in Microsoft 365\n\nLernziele\nAfter completing this course, students will be able to:\n\nDifferentiate between the various cloud service models\n\nIdentify the key differences between Microsoft 365 and Office 365\n\nPlan for migration to Microsoft 365 services\n\nIdentify key differences between Microsoft on-premises services vs. Microsoft 365 cloud services\n\nDefine enterprise mobility in Microsoft 365\n\nIdentify how Microsoft 365 services provide collaboration\n\nUnderstand identities, including cloud, on-premises, and hybrid identity\n\nUnderstand cloud device management and protection, including the use of Intune\n\nUnderstand data protection, including the use of Azure Information Protection\n\nDescribe compliance in general and the compliance features in Microsoft 365\n\nDescribe Microsoft 365 subscriptions, licenses, billing, and support\n\nZielgruppe\nThis course is designed for IT Professionals who aspire to deploy and manage cloud services in their organization, or who are simply looking to acquire foundational knowledge on cloud fundamentals. This includes the considerations and benefits of adopting cloud services in general and the Software as a Service (SaaS) cloud model specifically, with a general focus on Microsoft 365 cloud service offerings.\n\nBemerkung\nDauer\n\n1 Tag\n\nQuelle: www.weiterbildung.swiss\n\nhttps://training.claranet.com/ch/de/Shop/Course/MS-900\n\nKontakt\nClaranet Switzerland GmbH\nGate 55\nFlughofstrasse 55\n8152 Glattbrugg\n+41 44 842 77 11\n\nVerfügbarkeit / Datum, Zeit\n8.12.2026 09:00 - 16:30\n\nAnmeldeschluss: 08.12.2026\n\nPreis\nTeilnahmegebühr: CHF 750\n\n\nDas Angebot im Detail: https://www.guidle.com/angebote/1236543273/microsoft_365_fundamentals_-_ms-900/schweiz_ohne_ortsangabe\nQuelle: https://www.guidle.com
SUMMARY:Microsoft 365 Fundamentals - MS-900
PRIORITY:5
X-MICROSOFT-CDO-IMPORTANCE:1
CLASS:PUBLIC
BEGIN:VALARM
TRIGGER:-P1D
ACTION:DISPLAY
DESCRIPTION:Reminder
END:VALARM
END:VEVENT
END:VCALENDAR